Back to Multiple platform build/check report for BioC 3.14
ABCDEFGHIJKLMNOPQ[R]STUVWXYZ

This page was generated on 2021-08-02 12:05:24 -0400 (Mon, 02 Aug 2021).

BUILD BIN results for RpsiXML on merida1

To the developers/maintainers of the RpsiXML package:
- Please allow up to 24 hours (and sometimes 48 hours) for your latest push to git@git.bioconductor.org:packages/RpsiXML.git to
reflect on this report. See How and When does the builder pull? When will my changes propagate? here for more information.
- Make sure to use the following settings in order to reproduce any error or warning you see on this page.

raw results

Package 1601/2015HostnameOS / ArchINSTALLBUILDCHECKBUILD BIN
RpsiXML 2.35.0  (landing page)
Jitao David Zhang
Snapshot Date: 2021-08-01 14:50:04 -0400 (Sun, 01 Aug 2021)
URL: https://git.bioconductor.org/packages/RpsiXML
Branch: master
Last Commit: 922358c
Last Changed Date: 2021-05-19 11:41:31 -0400 (Wed, 19 May 2021)
nebbiolo2Linux (Ubuntu 20.04.2 LTS) / x86_64  OK    OK    OK  UNNEEDED, same version is already published
riesling1Windows Server 2019 Standard / x64  OK    OK    OK    OK  UNNEEDED, same version is already published
merida1macOS 10.14.6 Mojave / x86_64  OK    OK    OK    OK  UNNEEDED, same version is already published

Summary

Package: RpsiXML
Version: 2.35.0
Command: rm -rf RpsiXML.buildbin-libdir && mkdir RpsiXML.buildbin-libdir && /Users/biocbuild/BBS/utils/build-universal.sh RpsiXML_2.35.0.tar.gz /Library/Frameworks/R.framework/Resources/bin/R RpsiXML.buildbin-libdir
StartedAt: 2021-08-02 10:08:36 -0400 (Mon, 02 Aug 2021)
EndedAt: 2021-08-02 10:09:06 -0400 (Mon, 02 Aug 2021)
EllapsedTime: 30.1 seconds
RetCode: 0
Status:   OK  
PackageFile: RpsiXML_2.35.0.tgz
PackageFileSize: 2.903 MiB

Command output

##############################################################################
##############################################################################
###
### Running command:
###
###   rm -rf RpsiXML.buildbin-libdir && mkdir RpsiXML.buildbin-libdir && /Users/biocbuild/BBS/utils/build-universal.sh RpsiXML_2.35.0.tar.gz /Library/Frameworks/R.framework/Resources/bin/R RpsiXML.buildbin-libdir
###
##############################################################################
##############################################################################


>>>>>>> 
>>>>>>> INSTALLATION WITH 'R CMD INSTALL --preclean --no-multiarch --library=RpsiXML.buildbin-libdir RpsiXML_2.35.0.tar.gz'
>>>>>>> 

* installing *source* package ‘RpsiXML’ ...
** using staged installation
** R
** inst
** byte-compile and prepare package for lazy loading
** help
*** installing help indices
** building package indices
** installing vignettes
** testing if installed package can be loaded from temporary location
** testing if installed package can be loaded from final location
** testing if installed package keeps a record of temporary installation path
* DONE (RpsiXML)