Index of /checkResults/devel/bioc-LATEST/Rmmquant/raw-results/merida1

[ICO]NameLast modifiedSizeDescription

[DIR]Parent Directory  -  
[TXT]buildbin-out.txt12-Jun-2024 04:42 4.4K 
[   ]buildbin-summary.dcf12-Jun-2024 04:42 537  
[TXT]buildsrc-out.txt12-Jun-2024 04:42 890  
[   ]buildsrc-summary.dcf12-Jun-2024 04:42 431  
[TXT]checksrc-out.txt12-Jun-2024 04:42 3.9K 
[   ]checksrc-summary.dcf12-Jun-2024 04:42 448  
[TXT]install-out.txt12-Jun-2024 04:42 2.2K 
[   ]install-summary.dcf12-Jun-2024 04:42 272