Back to Multiple platform build/check report for BioC 3.14
ABCDEFGHIJKLMNOPQ[R]STUVWXYZ

This page was generated on 2021-07-24 12:06:45 -0400 (Sat, 24 Jul 2021).

INSTALL results for Risa on merida1

To the developers/maintainers of the Risa package:
- Please allow up to 24 hours (and sometimes 48 hours) for your latest push to git@git.bioconductor.org:packages/Risa.git to
reflect on this report. See How and When does the builder pull? When will my changes propagate? here for more information.
- Make sure to use the following settings in order to reproduce any error or warning you see on this page.

raw results

Package 1560/2008HostnameOS / ArchINSTALLBUILDCHECKBUILD BIN
Risa 1.35.0  (landing page)
Alejandra Gonzalez-Beltran
Snapshot Date: 2021-07-23 14:50:08 -0400 (Fri, 23 Jul 2021)
URL: https://git.bioconductor.org/packages/Risa
Branch: master
Last Commit: 5ff5bf6
Last Changed Date: 2021-05-19 11:53:54 -0400 (Wed, 19 May 2021)
nebbiolo2Linux (Ubuntu 20.04.2 LTS) / x86_64  OK    OK    WARNINGS  UNNEEDED, same version is already published
riesling1Windows Server 2019 Standard / x64  OK    OK    WARNINGS    OK  NO, package depends on 'xcms' which is not available
merida1macOS 10.14.6 Mojave / x86_64  OK    OK    WARNINGS    OK  UNNEEDED, same version is already published

Summary

Package: Risa
Version: 1.35.0
Command: /Library/Frameworks/R.framework/Resources/bin/R CMD INSTALL Risa
StartedAt: 2021-07-23 16:55:30 -0400 (Fri, 23 Jul 2021)
EndedAt: 2021-07-23 16:56:08 -0400 (Fri, 23 Jul 2021)
EllapsedTime: 38.2 seconds
RetCode: 0
Status:   OK  

Command output

##############################################################################
##############################################################################
###
### Running command:
###
###   /Library/Frameworks/R.framework/Resources/bin/R CMD INSTALL Risa
###
##############################################################################
##############################################################################


* installing to library ‘/Library/Frameworks/R.framework/Versions/4.1/Resources/library’
* installing *source* package ‘Risa’ ...
** using staged installation
** R
** inst
** byte-compile and prepare package for lazy loading
Warning: multiple methods tables found for ‘bin’
** help
*** installing help indices
** building package indices
** installing vignettes
** testing if installed package can be loaded from temporary location
Warning: multiple methods tables found for ‘bin’
** testing if installed package can be loaded from final location
Warning: multiple methods tables found for ‘bin’
** testing if installed package keeps a record of temporary installation path
* DONE (Risa)