Back to Multiple platform build/check report for BioC 3.14
ABCDEFGHIJKLMNOPQ[R]STUVWXYZ

This page was generated on 2021-06-19 12:06:06 -0400 (Sat, 19 Jun 2021).

BUILD results for Rgraphviz on riesling1

To the developers/maintainers of the Rgraphviz package:
- Please allow up to 24 hours (and sometimes 48 hours) for your latest push to git@git.bioconductor.org:packages/Rgraphviz.git to
reflect on this report. See How and When does the builder pull? When will my changes propagate? here for more information.
- Make sure to use the following settings in order to reproduce any error or warning you see on this page.

raw results

Package 1531/1993HostnameOS / ArchINSTALLBUILDCHECKBUILD BIN
Rgraphviz 2.37.0  (landing page)
Kasper Daniel Hansen
Snapshot Date: 2021-06-18 14:50:08 -0400 (Fri, 18 Jun 2021)
URL: https://git.bioconductor.org/packages/Rgraphviz
Branch: master
Last Commit: b01ad95
Last Changed Date: 2021-05-19 11:33:11 -0400 (Wed, 19 May 2021)
nebbiolo2Linux (Ubuntu 20.04.2 LTS) / x86_64  OK    OK    ERROR  
riesling1Windows Server 2019 Standard / x64  OK    OK    ERROR    OK  
merida1macOS 10.14.6 Mojave / x86_64  OK    OK    ERROR    OK  

Summary

Package: Rgraphviz
Version: 2.37.0
Command: chmod a+r Rgraphviz -R && D:\biocbuild\bbs-3.14-bioc\R\bin\R.exe CMD build --keep-empty-dirs --no-resave-data Rgraphviz
StartedAt: 2021-06-18 21:44:56 -0400 (Fri, 18 Jun 2021)
EndedAt: 2021-06-18 21:48:36 -0400 (Fri, 18 Jun 2021)
EllapsedTime: 220.0 seconds
RetCode: 0
Status:   OK  
PackageFile: Rgraphviz_2.37.0.tar.gz
PackageFileSize: 7.072 MiB

Command output

##############################################################################
##############################################################################
###
### Running command:
###
###   chmod a+r Rgraphviz -R && D:\biocbuild\bbs-3.14-bioc\R\bin\R.exe CMD build --keep-empty-dirs --no-resave-data Rgraphviz
###
##############################################################################
##############################################################################


* checking for file 'Rgraphviz/DESCRIPTION' ... OK
* preparing 'Rgraphviz':
* checking DESCRIPTION meta-information ... OK
* cleaning src
* running 'cleanup.win'
* installing the package to build vignettes
* creating vignettes ... OK
* cleaning src
* running 'cleanup.win'
* checking for LF line-endings in source and make files and shell scripts
* checking for empty or unneeded directories
* building 'Rgraphviz_2.37.0.tar.gz'
Warning: file 'Rgraphviz/cleanup' did not have execute permissions: corrected
Warning: file 'Rgraphviz/configure' did not have execute permissions: corrected
Warning: file 'Rgraphviz/src/graphviz/configure' did not have execute permissions: corrected
Warning: file 'Rgraphviz/src/graphviz/libltdl/configure' did not have execute permissions: corrected