Back to Multiple platform build/check report for BioC 3.14
ABCDEFGHIJKLMNOPQ[R]STUVWXYZ

This page was generated on 2021-09-22 12:05:21 -0400 (Wed, 22 Sep 2021).

INSTALL results for RbcBook1 on riesling1

To the developers/maintainers of the RbcBook1 package:
- Please allow up to 24 hours (and sometimes 48 hours) for your latest push to git@git.bioconductor.org:packages/RbcBook1.git to
reflect on this report. See How and When does the builder pull? When will my changes propagate? here for more information.
- Make sure to use the following settings in order to reproduce any error or warning you see on this page.

raw results

Package 1493/2029HostnameOS / ArchINSTALLBUILDCHECKBUILD BIN
RbcBook1 1.61.0  (landing page)
Vince Carey
Snapshot Date: 2021-09-21 14:50:05 -0400 (Tue, 21 Sep 2021)
git_url: https://git.bioconductor.org/packages/RbcBook1
git_branch: master
git_last_commit: 0b5429c
git_last_commit_date: 2021-05-19 11:38:15 -0400 (Wed, 19 May 2021)
nebbiolo2Linux (Ubuntu 20.04.2 LTS) / x86_64  OK    OK    OK  UNNEEDED, same version is already published
riesling1Windows Server 2019 Standard / x64  OK    OK    OK    OK  UNNEEDED, same version is already published
merida1macOS 10.14.6 Mojave / x86_64  OK    OK    OK    OK  UNNEEDED, same version is already published

Summary

Package: RbcBook1
Version: 1.61.0
Command: C:\cygwin\bin\curl.exe -O http://155.52.207.166/BBS/3.14/bioc/src/contrib/RbcBook1_1.61.0.tar.gz && rm -rf RbcBook1.buildbin-libdir && mkdir RbcBook1.buildbin-libdir && D:\biocbuild\bbs-3.14-bioc\R\bin\R.exe CMD INSTALL --merge-multiarch --build --library=RbcBook1.buildbin-libdir RbcBook1_1.61.0.tar.gz && D:\biocbuild\bbs-3.14-bioc\R\bin\R.exe CMD INSTALL RbcBook1_1.61.0.zip && rm RbcBook1_1.61.0.tar.gz RbcBook1_1.61.0.zip
StartedAt: 2021-09-21 16:43:42 -0400 (Tue, 21 Sep 2021)
EndedAt: 2021-09-21 16:46:51 -0400 (Tue, 21 Sep 2021)
EllapsedTime: 189.8 seconds
RetCode: 0
Status:   OK  

Command output

##############################################################################
##############################################################################
###
### Running command:
###
###   C:\cygwin\bin\curl.exe -O http://155.52.207.166/BBS/3.14/bioc/src/contrib/RbcBook1_1.61.0.tar.gz && rm -rf RbcBook1.buildbin-libdir && mkdir RbcBook1.buildbin-libdir && D:\biocbuild\bbs-3.14-bioc\R\bin\R.exe CMD INSTALL --merge-multiarch --build --library=RbcBook1.buildbin-libdir RbcBook1_1.61.0.tar.gz && D:\biocbuild\bbs-3.14-bioc\R\bin\R.exe CMD INSTALL RbcBook1_1.61.0.zip && rm RbcBook1_1.61.0.tar.gz RbcBook1_1.61.0.zip
###
##############################################################################
##############################################################################


  % Total    % Received % Xferd  Average Speed   Time    Time     Time  Current
                                 Dload  Upload   Total   Spent    Left  Speed

  0     0    0     0    0     0      0      0 --:--:-- --:--:-- --:--:--     0
 35 6534k   35 2299k    0     0  2290k      0  0:00:02  0:00:01  0:00:01 2290k
 87 6534k   87 5701k    0     0  2842k      0  0:00:02  0:00:02 --:--:-- 2842k
100 6534k  100 6534k    0     0  2938k      0  0:00:02  0:00:02 --:--:-- 2938k

install for i386

* installing *source* package 'RbcBook1' ...
** using staged installation
** R
** data
** inst
** byte-compile and prepare package for lazy loading
** help
*** installing help indices
  converting help for package 'RbcBook1'
    finding HTML links ... done
    bcStangle                               html  
    bcSweave                                html  
    bcr                                     html  
    checkVerbatimLines                      html  
    imageSize                               html  
    perf                                    html  
    requireAllBook1                         html  
    rpart2gNEL                              html  
** building package indices
** installing vignettes
** testing if installed package can be loaded from temporary location
** testing if installed package can be loaded from final location
** testing if installed package keeps a record of temporary installation path

install for x64

* installing *source* package 'RbcBook1' ...
** testing if installed package can be loaded
* MD5 sums
packaged installation of 'RbcBook1' as RbcBook1_1.61.0.zip
* DONE (RbcBook1)
* installing to library 'D:/biocbuild/bbs-3.14-bioc/R/library'
package 'RbcBook1' successfully unpacked and MD5 sums checked