Back to Multiple platform build/check report for BioC 3.14
ABCDEFGHIJKLMNOPQ[R]STUVWXYZ

This page was generated on 2021-08-03 12:06:58 -0400 (Tue, 03 Aug 2021).

BUILD results for RbcBook1 on merida1

To the developers/maintainers of the RbcBook1 package:
- Please allow up to 24 hours (and sometimes 48 hours) for your latest push to git@git.bioconductor.org:packages/RbcBook1.git to
reflect on this report. See How and When does the builder pull? When will my changes propagate? here for more information.
- Make sure to use the following settings in order to reproduce any error or warning you see on this page.

raw results

Package 1485/2015HostnameOS / ArchINSTALLBUILDCHECKBUILD BIN
RbcBook1 1.61.0  (landing page)
Vince Carey
Snapshot Date: 2021-08-02 14:50:09 -0400 (Mon, 02 Aug 2021)
URL: https://git.bioconductor.org/packages/RbcBook1
Branch: master
Last Commit: 0b5429c
Last Changed Date: 2021-05-19 11:38:15 -0400 (Wed, 19 May 2021)
nebbiolo2Linux (Ubuntu 20.04.2 LTS) / x86_64  OK    OK    OK  UNNEEDED, same version is already published
riesling1Windows Server 2019 Standard / x64  OK    OK    OK    OK  UNNEEDED, same version is already published
merida1macOS 10.14.6 Mojave / x86_64  OK    OK    OK    OK  UNNEEDED, same version is already published

Summary

Package: RbcBook1
Version: 1.61.0
Command: /Library/Frameworks/R.framework/Resources/bin/R CMD build --keep-empty-dirs --no-resave-data RbcBook1
StartedAt: 2021-08-02 21:40:45 -0400 (Mon, 02 Aug 2021)
EndedAt: 2021-08-02 21:41:02 -0400 (Mon, 02 Aug 2021)
EllapsedTime: 17.3 seconds
RetCode: 0
Status:   OK  
PackageFile: RbcBook1_1.61.0.tar.gz
PackageFileSize: 6.403 MiB

Command output

##############################################################################
##############################################################################
###
### Running command:
###
###   /Library/Frameworks/R.framework/Resources/bin/R CMD build --keep-empty-dirs --no-resave-data RbcBook1
###
##############################################################################
##############################################################################


* checking for file ‘RbcBook1/DESCRIPTION’ ... OK
* preparing ‘RbcBook1’:
* checking DESCRIPTION meta-information ... OK
* installing the package to build vignettes
* creating vignettes ... OK
* checking for LF line-endings in source and make files and shell scripts
* checking for empty or unneeded directories
* looking to see if a ‘data/datalist’ file should be added
* building ‘RbcBook1_1.61.0.tar.gz’