Back to Multiple platform build/check report for BioC 3.14
ABCDEFGHIJKLMNOPQ[R]STUVWXYZ

This page was generated on 2021-08-03 12:06:58 -0400 (Tue, 03 Aug 2021).

BUILD BIN results for RbcBook1 on merida1

To the developers/maintainers of the RbcBook1 package:
- Please allow up to 24 hours (and sometimes 48 hours) for your latest push to git@git.bioconductor.org:packages/RbcBook1.git to
reflect on this report. See How and When does the builder pull? When will my changes propagate? here for more information.
- Make sure to use the following settings in order to reproduce any error or warning you see on this page.

raw results

Package 1485/2015HostnameOS / ArchINSTALLBUILDCHECKBUILD BIN
RbcBook1 1.61.0  (landing page)
Vince Carey
Snapshot Date: 2021-08-02 14:50:09 -0400 (Mon, 02 Aug 2021)
URL: https://git.bioconductor.org/packages/RbcBook1
Branch: master
Last Commit: 0b5429c
Last Changed Date: 2021-05-19 11:38:15 -0400 (Wed, 19 May 2021)
nebbiolo2Linux (Ubuntu 20.04.2 LTS) / x86_64  OK    OK    OK  UNNEEDED, same version is already published
riesling1Windows Server 2019 Standard / x64  OK    OK    OK    OK  UNNEEDED, same version is already published
merida1macOS 10.14.6 Mojave / x86_64  OK    OK    OK    OK  UNNEEDED, same version is already published

Summary

Package: RbcBook1
Version: 1.61.0
Command: rm -rf RbcBook1.buildbin-libdir && mkdir RbcBook1.buildbin-libdir && /Users/biocbuild/BBS/utils/build-universal.sh RbcBook1_1.61.0.tar.gz /Library/Frameworks/R.framework/Resources/bin/R RbcBook1.buildbin-libdir
StartedAt: 2021-08-03 10:22:13 -0400 (Tue, 03 Aug 2021)
EndedAt: 2021-08-03 10:23:10 -0400 (Tue, 03 Aug 2021)
EllapsedTime: 56.8 seconds
RetCode: 0
Status:   OK  
PackageFile: RbcBook1_1.61.0.tgz
PackageFileSize: 6.439 MiB

Command output

##############################################################################
##############################################################################
###
### Running command:
###
###   rm -rf RbcBook1.buildbin-libdir && mkdir RbcBook1.buildbin-libdir && /Users/biocbuild/BBS/utils/build-universal.sh RbcBook1_1.61.0.tar.gz /Library/Frameworks/R.framework/Resources/bin/R RbcBook1.buildbin-libdir
###
##############################################################################
##############################################################################


>>>>>>> 
>>>>>>> INSTALLATION WITH 'R CMD INSTALL --preclean --no-multiarch --library=RbcBook1.buildbin-libdir RbcBook1_1.61.0.tar.gz'
>>>>>>> 

* installing *source* package ‘RbcBook1’ ...
** using staged installation
** R
** data
** inst
** byte-compile and prepare package for lazy loading
** help
*** installing help indices
** building package indices
** installing vignettes
** testing if installed package can be loaded from temporary location
** testing if installed package can be loaded from final location
** testing if installed package keeps a record of temporary installation path
* DONE (RbcBook1)