Back to Multiple platform build/check report for BioC 3.14
ABCDEFGHIJKLMNOPQ[R]STUVWXYZ

This page was generated on 2021-09-28 12:04:44 -0400 (Tue, 28 Sep 2021).

All results for package RbcBook1

To the developers/maintainers of the RbcBook1 package:
- Please allow up to 24 hours (and sometimes 48 hours) for your latest push to git@git.bioconductor.org:packages/RbcBook1.git to
reflect on this report. See How and When does the builder pull? When will my changes propagate? here for more information.
- Make sure to use the following settings in order to reproduce any error or warning you see on this page.

raw results

Package 1495/2034HostnameOS / ArchINSTALLBUILDCHECKBUILD BIN
RbcBook1 1.61.0  (landing page)
Vince Carey
Snapshot Date: 2021-09-27 14:50:07 -0400 (Mon, 27 Sep 2021)
git_url: https://git.bioconductor.org/packages/RbcBook1
git_branch: master
git_last_commit: 0b5429c
git_last_commit_date: 2021-05-19 11:38:15 -0400 (Wed, 19 May 2021)
nebbiolo2Linux (Ubuntu 20.04.2 LTS) / x86_64  OK    OK    OK  UNNEEDED, same version is already published
riesling1Windows Server 2019 Standard / x64  OK    OK    OK    OK  UNNEEDED, same version is already published
merida1macOS 10.14.6 Mojave / x86_64  OK    OK    OK    OK  UNNEEDED, same version is already published