Back to Multiple platform build/check report for BioC 3.20:   simplified   long
ABCDEFGHIJKLMNOPQ[R]STUVWXYZ

This page was generated on 2024-07-18 11:41 -0400 (Thu, 18 Jul 2024).

HostnameOSArch (*)R versionInstalled pkgs
nebbiolo2Linux (Ubuntu 22.04.3 LTS)x86_644.4.1 (2024-06-14) -- "Race for Your Life" 4683
palomino8Windows Server 2022 Datacenterx644.4.1 (2024-06-14 ucrt) -- "Race for Your Life" 4379
lconwaymacOS 12.7.1 Montereyx86_644.4.1 (2024-06-14) -- "Race for Your Life" 4450
kjohnson3macOS 13.6.5 Venturaarm644.4.1 (2024-06-14) -- "Race for Your Life" 4399
Click on any hostname to see more info about the system (e.g. compilers)      (*) as reported by 'uname -p', except on Windows and Mac OS X

Package 1766/2248HostnameOS / ArchINSTALLBUILDCHECKBUILD BIN
RPA 1.61.0  (landing page)
Leo Lahti
Snapshot Date: 2024-07-17 14:00 -0400 (Wed, 17 Jul 2024)
git_url: https://git.bioconductor.org/packages/RPA
git_branch: devel
git_last_commit: 7b6d209
git_last_commit_date: 2024-04-30 10:20:16 -0400 (Tue, 30 Apr 2024)
nebbiolo2Linux (Ubuntu 22.04.3 LTS) / x86_64  OK    OK    OK  UNNEEDED, same version is already published
palomino8Windows Server 2022 Datacenter / x64  OK    OK    OK    OK  UNNEEDED, same version is already published
lconwaymacOS 12.7.1 Monterey / x86_64  OK    OK    OK    OK  UNNEEDED, same version is already published
kjohnson3macOS 13.6.5 Ventura / arm64  OK    OK    OK    OK  UNNEEDED, same version is already published


BUILD BIN results for RPA on lconway

To the developers/maintainers of the RPA package:
- Allow up to 24 hours (and sometimes 48 hours) for your latest push to git@git.bioconductor.org:packages/RPA.git to reflect on this report. See Troubleshooting Build Report for more information.
- Use the following Renviron settings to reproduce errors and warnings.
- If 'R CMD check' started to fail recently on the Linux builder(s) over a missing dependency, add the missing dependency to 'Suggests:' in your DESCRIPTION file. See Renviron.bioc for more information.

raw results


Summary

Package: RPA
Version: 1.61.0
Command: rm -rf RPA.buildbin-libdir && mkdir RPA.buildbin-libdir && /Users/biocbuild/BBS/utils/build-universal.sh RPA_1.61.0.tar.gz /Library/Frameworks/R.framework/Resources/bin/R RPA.buildbin-libdir
StartedAt: 2024-07-18 01:55:20 -0400 (Thu, 18 Jul 2024)
EndedAt: 2024-07-18 01:55:53 -0400 (Thu, 18 Jul 2024)
EllapsedTime: 33.1 seconds
RetCode: 0
Status:   OK  
PackageFile: RPA_1.61.0.tgz
PackageFileSize: 388.2 KiB

Command output

##############################################################################
##############################################################################
###
### Running command:
###
###   rm -rf RPA.buildbin-libdir && mkdir RPA.buildbin-libdir && /Users/biocbuild/BBS/utils/build-universal.sh RPA_1.61.0.tar.gz /Library/Frameworks/R.framework/Resources/bin/R RPA.buildbin-libdir
###
##############################################################################
##############################################################################


>>>>>>> 
>>>>>>> INSTALLATION WITH 'R CMD INSTALL --preclean --no-multiarch --library=RPA.buildbin-libdir RPA_1.61.0.tar.gz'
>>>>>>> 

* installing *source* package ‘RPA’ ...
** using staged installation
** R
** inst
** byte-compile and prepare package for lazy loading
** help
*** installing help indices
** building package indices
** installing vignettes
** testing if installed package can be loaded from temporary location
** testing if installed package can be loaded from final location
** testing if installed package keeps a record of temporary installation path
* DONE (RPA)