Back to Multiple platform build/check report for BioC 3.14
ABCDEFGHIJKLMNOPQ[R]STUVWXYZ

This page was generated on 2021-06-22 12:06:12 -0400 (Tue, 22 Jun 2021).

INSTALL results for ROntoTools on riesling1

To the developers/maintainers of the ROntoTools package:
- Please allow up to 24 hours (and sometimes 48 hours) for your latest push to git@git.bioconductor.org:packages/ROntoTools.git to
reflect on this report. See How and When does the builder pull? When will my changes propagate? here for more information.
- Make sure to use the following settings in order to reproduce any error or warning you see on this page.

raw results

Package 1579/1993HostnameOS / ArchINSTALLBUILDCHECKBUILD BIN
ROntoTools 2.21.0  (landing page)
Calin Voichita
Snapshot Date: 2021-06-21 14:50:06 -0400 (Mon, 21 Jun 2021)
URL: https://git.bioconductor.org/packages/ROntoTools
Branch: master
Last Commit: ade1624
Last Changed Date: 2021-05-19 11:58:19 -0400 (Wed, 19 May 2021)
nebbiolo2Linux (Ubuntu 20.04.2 LTS) / x86_64  OK    OK    OK  UNNEEDED, same version is already published
riesling1Windows Server 2019 Standard / x64  OK    OK    OK    OK  NO, package depends on 'KEGGgraph' which is not available
merida1macOS 10.14.6 Mojave / x86_64  OK    OK    OK    OK  UNNEEDED, same version is already published

Summary

Package: ROntoTools
Version: 2.21.0
Command: C:\cygwin\bin\curl.exe -O http://155.52.207.166/BBS/3.14/bioc/src/contrib/ROntoTools_2.21.0.tar.gz && rm -rf ROntoTools.buildbin-libdir && mkdir ROntoTools.buildbin-libdir && D:\biocbuild\bbs-3.14-bioc\R\bin\R.exe CMD INSTALL --merge-multiarch --build --library=ROntoTools.buildbin-libdir ROntoTools_2.21.0.tar.gz && D:\biocbuild\bbs-3.14-bioc\R\bin\R.exe CMD INSTALL ROntoTools_2.21.0.zip && rm ROntoTools_2.21.0.tar.gz ROntoTools_2.21.0.zip
StartedAt: 2021-06-21 16:54:42 -0400 (Mon, 21 Jun 2021)
EndedAt: 2021-06-21 16:57:23 -0400 (Mon, 21 Jun 2021)
EllapsedTime: 160.4 seconds
RetCode: 0
Status:   OK  

Command output

##############################################################################
##############################################################################
###
### Running command:
###
###   C:\cygwin\bin\curl.exe -O http://155.52.207.166/BBS/3.14/bioc/src/contrib/ROntoTools_2.21.0.tar.gz && rm -rf ROntoTools.buildbin-libdir && mkdir ROntoTools.buildbin-libdir && D:\biocbuild\bbs-3.14-bioc\R\bin\R.exe CMD INSTALL --merge-multiarch --build --library=ROntoTools.buildbin-libdir ROntoTools_2.21.0.tar.gz && D:\biocbuild\bbs-3.14-bioc\R\bin\R.exe CMD INSTALL ROntoTools_2.21.0.zip && rm ROntoTools_2.21.0.tar.gz ROntoTools_2.21.0.zip
###
##############################################################################
##############################################################################


  % Total    % Received % Xferd  Average Speed   Time    Time     Time  Current
                                 Dload  Upload   Total   Spent    Left  Speed

  0     0    0     0    0     0      0      0 --:--:-- --:--:-- --:--:--     0
  0 1147k    0  1135    0     0  21826      0  0:00:53 --:--:--  0:00:53 21826
100 1147k  100 1147k    0     0  4610k      0 --:--:-- --:--:-- --:--:-- 4591k

install for i386

* installing *source* package 'ROntoTools' ...
** using staged installation
** R
** inst
** byte-compile and prepare package for lazy loading
** help
*** installing help indices
  converting help for package 'ROntoTools'
    finding HTML links ... done
    KEGGpathway2Graph                       html  
    Summary-pDisRes-method                  html  
    Summary-peRes-method                    html  
    alpha1MR                                html  
    alphaMLG                                html  
    compute.fisher                          html  
    compute.normalInv                       html  
    keggPathwayGraphs                       html  
    finding level-2 HTML links ... done

    keggPathwayNames                        html  
    nodeWeights                             html  
    pDis                                    html  
    pDisPathway-class                       html  
    pDisRes-class                           html  
    pe                                      html  
    peEdgeRenderInfo                        html  
    peNodeRenderInfo                        html  
    pePathway-class                         html  
    peRes-class                             html  
    plot.pePathway-methods                  html  
    plot.peRes-methods                      html  
    setEdgeWeights                          html  
    setNodeWeights                          html  
    subGraphByNodeType                      html  
    summary.pDisRes                         html  
    summary.peRes                           html  
** building package indices
** installing vignettes
** testing if installed package can be loaded from temporary location
** testing if installed package can be loaded from final location
** testing if installed package keeps a record of temporary installation path

install for x64

* installing *source* package 'ROntoTools' ...
** testing if installed package can be loaded
* MD5 sums
packaged installation of 'ROntoTools' as ROntoTools_2.21.0.zip
* DONE (ROntoTools)
* installing to library 'D:/biocbuild/bbs-3.14-bioc/R/library'
package 'ROntoTools' successfully unpacked and MD5 sums checked