Back to Multiple platform build/check report for BioC 3.14
ABCDEFGHIJKLMNOPQ[R]STUVWXYZ

This page was generated on 2021-06-21 12:05:48 -0400 (Mon, 21 Jun 2021).

BUILD results for ROntoTools on riesling1

To the developers/maintainers of the ROntoTools package:
- Please allow up to 24 hours (and sometimes 48 hours) for your latest push to git@git.bioconductor.org:packages/ROntoTools.git to
reflect on this report. See How and When does the builder pull? When will my changes propagate? here for more information.
- Make sure to use the following settings in order to reproduce any error or warning you see on this page.

raw results

Package 1579/1993HostnameOS / ArchINSTALLBUILDCHECKBUILD BIN
ROntoTools 2.21.0  (landing page)
Calin Voichita
Snapshot Date: 2021-06-20 14:50:05 -0400 (Sun, 20 Jun 2021)
URL: https://git.bioconductor.org/packages/ROntoTools
Branch: master
Last Commit: ade1624
Last Changed Date: 2021-05-19 11:58:19 -0400 (Wed, 19 May 2021)
nebbiolo2Linux (Ubuntu 20.04.2 LTS) / x86_64  OK    OK    OK  UNNEEDED, same version is already published
riesling1Windows Server 2019 Standard / x64  OK    OK    OK    OK  NO, package depends on 'KEGGgraph' which is not available
merida1macOS 10.14.6 Mojave / x86_64  OK    OK    OK    OK  UNNEEDED, same version is already published

Summary

Package: ROntoTools
Version: 2.21.0
Command: chmod a+r ROntoTools -R && D:\biocbuild\bbs-3.14-bioc\R\bin\R.exe CMD build --keep-empty-dirs --no-resave-data ROntoTools
StartedAt: 2021-06-20 21:55:30 -0400 (Sun, 20 Jun 2021)
EndedAt: 2021-06-20 21:58:48 -0400 (Sun, 20 Jun 2021)
EllapsedTime: 198.3 seconds
RetCode: 0
Status:   OK  
PackageFile: ROntoTools_2.21.0.tar.gz
PackageFileSize: 1.375 MiB

Command output

##############################################################################
##############################################################################
###
### Running command:
###
###   chmod a+r ROntoTools -R && D:\biocbuild\bbs-3.14-bioc\R\bin\R.exe CMD build --keep-empty-dirs --no-resave-data ROntoTools
###
##############################################################################
##############################################################################


* checking for file 'ROntoTools/DESCRIPTION' ... OK
* preparing 'ROntoTools':
* checking DESCRIPTION meta-information ... OK
* installing the package to build vignettes
* creating vignettes ... OK
* checking for LF line-endings in source and make files and shell scripts
* checking for empty or unneeded directories
* building 'ROntoTools_2.21.0.tar.gz'