Back to Multiple platform build/check report for BioC 3.14
ABCDEFGHIJKLMNOPQ[R]STUVWXYZ

BUILD BIN results for ROntoTools on riesling1

This page was generated on 2021-06-16 12:05:14 -0400 (Wed, 16 Jun 2021).

Package 1579/1993HostnameOS / ArchINSTALLBUILDCHECKBUILD BIN
ROntoTools 2.21.0  (landing page)
Calin Voichita
Snapshot Date: 2021-06-15 14:50:06 -0400 (Tue, 15 Jun 2021)
URL: https://git.bioconductor.org/packages/ROntoTools
Branch: master
Last Commit: ade1624
Last Changed Date: 2021-05-19 11:58:19 -0400 (Wed, 19 May 2021)
nebbiolo2Linux (Ubuntu 20.04.2 LTS) / x86_64  OK    OK    OK  UNNEEDED, same version is already published
riesling1Windows Server 2019 Standard / x64  OK    OK    OK    OK  NO, package depends on 'KEGGgraph' which is not available
merida1macOS 10.14.6 Mojave / x86_64  OK    OK    OK    OK  UNNEEDED, same version is already published
To the developers/maintainers of the ROntoTools package:
- Please allow up to 24 hours (and sometimes 48 hours) for your latest push to git@git.bioconductor.org:packages/ROntoTools.git to
reflect on this report. See How and When does the builder pull? When will my changes propagate? here for more information.
- Make sure to use the following settings in order to reproduce any error or warning you see on this page.

Summary

Package: ROntoTools
Version: 2.21.0
Command: rm -rf ROntoTools.buildbin-libdir && mkdir ROntoTools.buildbin-libdir && D:\biocbuild\bbs-3.14-bioc\R\bin\R.exe CMD INSTALL --merge-multiarch --build --library=ROntoTools.buildbin-libdir ROntoTools_2.21.0.tar.gz
StartedAt: 2021-06-16 05:18:21 -0400 (Wed, 16 Jun 2021)
EndedAt: 2021-06-16 05:22:13 -0400 (Wed, 16 Jun 2021)
EllapsedTime: 231.2 seconds
RetCode: 0
Status:   OK   
PackageFile: ROntoTools_2.21.0.zip
PackageFileSize: 1.531 MiB

Command output

##############################################################################
##############################################################################
###
### Running command:
###
###   rm -rf ROntoTools.buildbin-libdir && mkdir ROntoTools.buildbin-libdir && D:\biocbuild\bbs-3.14-bioc\R\bin\R.exe CMD INSTALL --merge-multiarch --build --library=ROntoTools.buildbin-libdir ROntoTools_2.21.0.tar.gz
###
##############################################################################
##############################################################################



install for i386

* installing *source* package 'ROntoTools' ...
** using staged installation
** R
** inst
** byte-compile and prepare package for lazy loading
** help
*** installing help indices
  converting help for package 'ROntoTools'
    finding HTML links ... done
    KEGGpathway2Graph                       html  
    Summary-pDisRes-method                  html  
    Summary-peRes-method                    html  
    alpha1MR                                html  
    alphaMLG                                html  
    compute.fisher                          html  
    compute.normalInv                       html  
    keggPathwayGraphs                       html  
    finding level-2 HTML links ... done

    keggPathwayNames                        html  
    nodeWeights                             html  
    pDis                                    html  
    pDisPathway-class                       html  
    pDisRes-class                           html  
    pe                                      html  
    peEdgeRenderInfo                        html  
    peNodeRenderInfo                        html  
    pePathway-class                         html  
    peRes-class                             html  
    plot.pePathway-methods                  html  
    plot.peRes-methods                      html  
    setEdgeWeights                          html  
    setNodeWeights                          html  
    subGraphByNodeType                      html  
    summary.pDisRes                         html  
    summary.peRes                           html  
** building package indices
** installing vignettes
** testing if installed package can be loaded from temporary location
** testing if installed package can be loaded from final location
** testing if installed package keeps a record of temporary installation path

install for x64

* installing *source* package 'ROntoTools' ...
** testing if installed package can be loaded
* MD5 sums
packaged installation of 'ROntoTools' as ROntoTools_2.21.0.zip
* DONE (ROntoTools)