Back to Multiple platform build/check report for BioC 3.14
ABCDEFGHIJKLMNOPQ[R]STUVWXYZ

This page was generated on 2021-06-18 12:05:06 -0400 (Fri, 18 Jun 2021).

BUILD BIN results for RGraph2js on riesling1

To the developers/maintainers of the RGraph2js package:
- Please allow up to 24 hours (and sometimes 48 hours) for your latest push to git@git.bioconductor.org:packages/RGraph2js.git to
reflect on this report. See How and When does the builder pull? When will my changes propagate? here for more information.
- Make sure to use the following settings in order to reproduce any error or warning you see on this page.

raw results

Package 1530/1993HostnameOS / ArchINSTALLBUILDCHECKBUILD BIN
RGraph2js 1.21.0  (landing page)
Stephane Cano
Snapshot Date: 2021-06-17 14:50:06 -0400 (Thu, 17 Jun 2021)
URL: https://git.bioconductor.org/packages/RGraph2js
Branch: master
Last Commit: 135c4c8
Last Changed Date: 2021-05-19 12:17:43 -0400 (Wed, 19 May 2021)
nebbiolo2Linux (Ubuntu 20.04.2 LTS) / x86_64  OK    OK    OK  UNNEEDED, same version is already published
riesling1Windows Server 2019 Standard / x64  OK    OK    OK    OK  UNNEEDED, same version is already published
merida1macOS 10.14.6 Mojave / x86_64  OK    OK    OK    OK  UNNEEDED, same version is already published

Summary

Package: RGraph2js
Version: 1.21.0
Command: rm -rf RGraph2js.buildbin-libdir && mkdir RGraph2js.buildbin-libdir && D:\biocbuild\bbs-3.14-bioc\R\bin\R.exe CMD INSTALL --merge-multiarch --build --library=RGraph2js.buildbin-libdir RGraph2js_1.21.0.tar.gz
StartedAt: 2021-06-18 05:39:53 -0400 (Fri, 18 Jun 2021)
EndedAt: 2021-06-18 05:43:39 -0400 (Fri, 18 Jun 2021)
EllapsedTime: 226.3 seconds
RetCode: 0
Status:   OK  
PackageFile: RGraph2js_1.21.0.zip
PackageFileSize: 1.511 MiB

Command output

##############################################################################
##############################################################################
###
### Running command:
###
###   rm -rf RGraph2js.buildbin-libdir && mkdir RGraph2js.buildbin-libdir && D:\biocbuild\bbs-3.14-bioc\R\bin\R.exe CMD INSTALL --merge-multiarch --build --library=RGraph2js.buildbin-libdir RGraph2js_1.21.0.tar.gz
###
##############################################################################
##############################################################################



install for i386

* installing *source* package 'RGraph2js' ...
** using staged installation
** R
** inst
** byte-compile and prepare package for lazy loading
** help
*** installing help indices
  converting help for package 'RGraph2js'
    finding HTML links ... done
    generateOptionsJSCode                   html  
    getAdjMat                               html  
    getDefaultOptions                       html  
    getDefaultToolParameters                html  
    getEdgesDataFrame                       html  
    getHTMLContainerCode                    html  
    getHTMLStyleCode                        html  
    getJSCode                               html  
    getNodesDataFrame                       html  
    getUUID                                 html  
    graph2js                                html  
    graph2json                              html  
** building package indices
** installing vignettes
** testing if installed package can be loaded from temporary location
** testing if installed package can be loaded from final location
** testing if installed package keeps a record of temporary installation path

install for x64

* installing *source* package 'RGraph2js' ...
** testing if installed package can be loaded
* MD5 sums
packaged installation of 'RGraph2js' as RGraph2js_1.21.0.zip
* DONE (RGraph2js)