Index of /checkResults/devel/bioc-LATEST/RGraph2js/raw-results/palomino4

[ICO]NameLast modifiedSizeDescription

[DIR]Parent Directory  -  
[   ]install-summary.dcf12-Jun-2024 04:41 272  
[TXT]install-out.txt12-Jun-2024 04:41 968  
[   ]checksrc-summary.dcf12-Jun-2024 04:41 455  
[TXT]checksrc-out.txt12-Jun-2024 04:41 3.8K 
[   ]buildsrc-summary.dcf12-Jun-2024 04:41 460  
[TXT]buildsrc-out.txt12-Jun-2024 04:41 849  
[   ]buildbin-summary.dcf12-Jun-2024 04:41 527  
[TXT]buildbin-out.txt12-Jun-2024 04:41 1.1K