Index of /checkResults/devel/bioc-LATEST/RGraph2js/raw-results/nebbiolo2

[ICO]NameLast modifiedSizeDescription

[DIR]Parent Directory  -  
[   ]install-summary.dcf23-Jul-2024 01:44 262  
[   ]checksrc-summary.dcf23-Jul-2024 01:44 421  
[   ]buildsrc-summary.dcf23-Jul-2024 01:44 429  
[TXT]buildsrc-out.txt23-Jul-2024 01:44 838  
[TXT]install-out.txt23-Jul-2024 01:44 958  
[TXT]checksrc-out.txt23-Jul-2024 01:44 3.8K