Index of /checkResults/devel/bioc-LATEST/RGraph2js/raw-results/lconway

[ICO]NameLast modifiedSizeDescription

[DIR]Parent Directory  -  
[TXT]buildbin-out.txt18-Jul-2024 00:41 1.2K 
[   ]buildbin-summary.dcf18-Jul-2024 00:41 541  
[TXT]buildsrc-out.txt18-Jul-2024 00:41 824  
[   ]buildsrc-summary.dcf18-Jul-2024 00:41 433  
[TXT]checksrc-out.txt18-Jul-2024 00:41 3.9K 
[   ]checksrc-summary.dcf18-Jul-2024 00:41 451  
[TXT]install-out.txt18-Jul-2024 00:41 1.0K 
[   ]install-summary.dcf18-Jul-2024 00:41 272