Index of /checkResults/devel/bioc-LATEST/RGraph2js/raw-results/kunpeng2

[ICO]NameLast modifiedSizeDescription

[DIR]Parent Directory  -  
[   ]install-summary.dcf07-Jul-2024 00:45 250  
[TXT]install-out.txt07-Jul-2024 00:45 940  
[   ]checksrc-summary.dcf09-Jul-2024 00:45 412  
[TXT]checksrc-out.txt09-Jul-2024 00:45 3.8K 
[   ]buildsrc-summary.dcf09-Jul-2024 00:45 411  
[TXT]buildsrc-out.txt09-Jul-2024 00:45 802