Index of /checkResults/devel/bioc-LATEST/RGraph2js/raw-results/kunpeng2

[ICO]NameLast modifiedSizeDescription

[DIR]Parent Directory  -  
[TXT]buildsrc-out.txt16-May-2024 02:46 825  
[   ]buildsrc-summary.dcf16-May-2024 02:46 434  
[TXT]checksrc-out.txt16-May-2024 02:46 3.9K 
[   ]checksrc-summary.dcf16-May-2024 02:46 458  
[TXT]install-out.txt16-May-2024 02:46 1.0K 
[   ]install-summary.dcf16-May-2024 02:46 273