Back to Multiple platform build/check report for BioC 3.14
ABCDEFGHIJKLMNOPQ[R]STUVWXYZ

This page was generated on 2021-10-25 14:07:19 -0400 (Mon, 25 Oct 2021).

BUILD BIN results for REDseq on merida1

To the developers/maintainers of the REDseq package:
- Please allow up to 24 hours (and sometimes 48 hours) for your latest push to git@git.bioconductor.org:packages/REDseq.git to
reflect on this report. See How and When does the builder pull? When will my changes propagate? here for more information.
- Make sure to use the following settings in order to reproduce any error or warning you see on this page.

raw results

Package 1570/2083HostnameOS / ArchINSTALLBUILDCHECKBUILD BIN
REDseq 1.39.0  (landing page)
Lihua Julie Zhu
Snapshot Date: 2021-10-24 14:50:04 -0400 (Sun, 24 Oct 2021)
git_url: https://git.bioconductor.org/packages/REDseq
git_branch: master
git_last_commit: 515e072
git_last_commit_date: 2021-05-19 11:48:43 -0400 (Wed, 19 May 2021)
nebbiolo2Linux (Ubuntu 20.04.2 LTS) / x86_64  OK    OK    OK  UNNEEDED, same version is already published
riesling1Windows Server 2019 Standard / x64  OK    OK    OK    OK  UNNEEDED, same version is already published
merida1macOS 10.14.6 Mojave / x86_64  OK    OK    OK    OK  UNNEEDED, same version is already published
machv2macOS 10.14.6 Mojave / x86_64  OK    OK    OK    OK  

Summary

Package: REDseq
Version: 1.39.0
Command: rm -rf REDseq.buildbin-libdir && mkdir REDseq.buildbin-libdir && /Users/biocbuild/BBS/utils/build-universal.sh REDseq_1.39.0.tar.gz /Library/Frameworks/R.framework/Resources/bin/R REDseq.buildbin-libdir
StartedAt: 2021-10-25 12:39:37 -0400 (Mon, 25 Oct 2021)
EndedAt: 2021-10-25 12:40:33 -0400 (Mon, 25 Oct 2021)
EllapsedTime: 56.7 seconds
RetCode: 0
Status:   OK  
PackageFile: REDseq_1.39.0.tgz
PackageFileSize: 249.3 KiB

Command output

##############################################################################
##############################################################################
###
### Running command:
###
###   rm -rf REDseq.buildbin-libdir && mkdir REDseq.buildbin-libdir && /Users/biocbuild/BBS/utils/build-universal.sh REDseq_1.39.0.tar.gz /Library/Frameworks/R.framework/Resources/bin/R REDseq.buildbin-libdir
###
##############################################################################
##############################################################################


>>>>>>> 
>>>>>>> INSTALLATION WITH 'R CMD INSTALL --preclean --no-multiarch --library=REDseq.buildbin-libdir REDseq_1.39.0.tar.gz'
>>>>>>> 

* installing *source* package ‘REDseq’ ...
** using staged installation
** R
** data
** inst
** byte-compile and prepare package for lazy loading
No methods found in package 'IRanges' for requests: '%in%', 'rep.int' when loading 'REDseq'
** help
*** installing help indices
** building package indices
** installing vignettes
** testing if installed package can be loaded from temporary location
No methods found in package 'IRanges' for requests: '%in%', 'rep.int' when loading 'REDseq'
** testing if installed package can be loaded from final location
No methods found in package 'IRanges' for requests: '%in%', 'rep.int' when loading 'REDseq'
** testing if installed package keeps a record of temporary installation path
* DONE (REDseq)