Back to Multiple platform build/check report for BioC 3.14
ABCDEFGHIJKLMNOPQ[R]STUVWXYZ

This page was generated on 2021-07-31 12:05:48 -0400 (Sat, 31 Jul 2021).

BUILD results for RCy3 on nebbiolo2

To the developers/maintainers of the RCy3 package:
- Please allow up to 24 hours (and sometimes 48 hours) for your latest push to git@git.bioconductor.org:packages/RCy3.git to
reflect on this report. See How and When does the builder pull? When will my changes propagate? here for more information.
- Make sure to use the following settings in order to reproduce any error or warning you see on this page.

raw results

Package 1505/2015HostnameOS / ArchINSTALLBUILDCHECKBUILD BIN
RCy3 2.13.3  (landing page)
Alex Pico
Snapshot Date: 2021-07-30 14:50:06 -0400 (Fri, 30 Jul 2021)
URL: https://git.bioconductor.org/packages/RCy3
Branch: master
Last Commit: 36f52f2
Last Changed Date: 2021-06-15 21:29:56 -0400 (Tue, 15 Jun 2021)
nebbiolo2Linux (Ubuntu 20.04.2 LTS) / x86_64  OK    OK    OK  UNNEEDED, same version is already published
riesling1Windows Server 2019 Standard / x64  OK    OK    OK    OK  UNNEEDED, same version is already published
merida1macOS 10.14.6 Mojave / x86_64  OK    OK    OK    OK  UNNEEDED, same version is already published

Summary

Package: RCy3
Version: 2.13.3
Command: /home/biocbuild/bbs-3.14-bioc/R/bin/R CMD build --keep-empty-dirs --no-resave-data RCy3
StartedAt: 2021-07-30 18:03:29 -0400 (Fri, 30 Jul 2021)
EndedAt: 2021-07-30 18:04:01 -0400 (Fri, 30 Jul 2021)
EllapsedTime: 31.4 seconds
RetCode: 0
Status:   OK  
PackageFile: RCy3_2.13.3.tar.gz
PackageFileSize: 4.785 MiB

Command output

##############################################################################
##############################################################################
###
### Running command:
###
###   /home/biocbuild/bbs-3.14-bioc/R/bin/R CMD build --keep-empty-dirs --no-resave-data RCy3
###
##############################################################################
##############################################################################


* checking for file ‘RCy3/DESCRIPTION’ ... OK
* preparing ‘RCy3’:
* checking DESCRIPTION meta-information ... OK
* installing the package to build vignettes
* creating vignettes ... OK
* checking for LF line-endings in source and make files and shell scripts
* checking for empty or unneeded directories
* building ‘RCy3_2.13.3.tar.gz’