Back to Multiple platform build/check report for BioC 3.14
ABCDEFGHIJKLMNOPQ[R]STUVWXYZ

This page was generated on 2021-09-21 12:06:17 -0400 (Tue, 21 Sep 2021).

BUILD results for RBioinf on riesling1

To the developers/maintainers of the RBioinf package:
- Please allow up to 24 hours (and sometimes 48 hours) for your latest push to git@git.bioconductor.org:packages/RBioinf.git to
reflect on this report. See How and When does the builder pull? When will my changes propagate? here for more information.
- Make sure to use the following settings in order to reproduce any error or warning you see on this page.

raw results

Package 1496/2029HostnameOS / ArchINSTALLBUILDCHECKBUILD BIN
RBioinf 1.53.0  (landing page)
Robert Gentleman
Snapshot Date: 2021-09-20 14:50:09 -0400 (Mon, 20 Sep 2021)
git_url: https://git.bioconductor.org/packages/RBioinf
git_branch: master
git_last_commit: 1337231
git_last_commit_date: 2021-05-19 11:40:41 -0400 (Wed, 19 May 2021)
nebbiolo2Linux (Ubuntu 20.04.2 LTS) / x86_64  OK    OK    OK  UNNEEDED, same version is already published
riesling1Windows Server 2019 Standard / x64  OK    OK    OK    OK  UNNEEDED, same version is already published
merida1macOS 10.14.6 Mojave / x86_64  OK    OK    OK    OK  UNNEEDED, same version is already published

Summary

Package: RBioinf
Version: 1.53.0
Command: chmod a+r RBioinf -R && D:\biocbuild\bbs-3.14-bioc\R\bin\R.exe CMD build --keep-empty-dirs --no-resave-data RBioinf
StartedAt: 2021-09-20 22:29:50 -0400 (Mon, 20 Sep 2021)
EndedAt: 2021-09-20 22:33:28 -0400 (Mon, 20 Sep 2021)
EllapsedTime: 217.4 seconds
RetCode: 0
Status:   OK  
PackageFile: RBioinf_1.53.0.tar.gz
PackageFileSize: 3.459 MiB

Command output

##############################################################################
##############################################################################
###
### Running command:
###
###   chmod a+r RBioinf -R && D:\biocbuild\bbs-3.14-bioc\R\bin\R.exe CMD build --keep-empty-dirs --no-resave-data RBioinf
###
##############################################################################
##############################################################################


* checking for file 'RBioinf/DESCRIPTION' ... OK
* preparing 'RBioinf':
* checking DESCRIPTION meta-information ... OK
* cleaning src
* installing the package to build vignettes
* creating vignettes ... OK
* cleaning src
* checking for LF line-endings in source and make files and shell scripts
* checking for empty or unneeded directories
* building 'RBioinf_1.53.0.tar.gz'