Back to Multiple platform build/check report for BioC 3.14
ABCDEFGHIJKLMNOPQ[R]STUVWXYZ

This page was generated on 2021-10-23 14:07:13 -0400 (Sat, 23 Oct 2021).

CHECK results for RBioinf on merida1

To the developers/maintainers of the RBioinf package:
- Please allow up to 24 hours (and sometimes 48 hours) for your latest push to git@git.bioconductor.org:packages/RBioinf.git to
reflect on this report. See How and When does the builder pull? When will my changes propagate? here for more information.
- Make sure to use the following settings in order to reproduce any error or warning you see on this page.

raw results

Package 1534/2083HostnameOS / ArchINSTALLBUILDCHECKBUILD BIN
RBioinf 1.53.0  (landing page)
Robert Gentleman
Snapshot Date: 2021-10-22 14:50:11 -0400 (Fri, 22 Oct 2021)
git_url: https://git.bioconductor.org/packages/RBioinf
git_branch: master
git_last_commit: 1337231
git_last_commit_date: 2021-05-19 11:40:41 -0400 (Wed, 19 May 2021)
nebbiolo2Linux (Ubuntu 20.04.2 LTS) / x86_64  OK    OK    OK  UNNEEDED, same version is already published
riesling1Windows Server 2019 Standard / x64  OK    OK    OK    OK  UNNEEDED, same version is already published
merida1macOS 10.14.6 Mojave / x86_64  OK    OK    OK    OK  UNNEEDED, same version is already published

Summary

Package: RBioinf
Version: 1.53.0
Command: /Library/Frameworks/R.framework/Resources/bin/R CMD check --install=check:RBioinf.install-out.txt --library=/Library/Frameworks/R.framework/Resources/library --no-vignettes --timings RBioinf_1.53.0.tar.gz
StartedAt: 2021-10-23 08:00:39 -0400 (Sat, 23 Oct 2021)
EndedAt: 2021-10-23 08:01:28 -0400 (Sat, 23 Oct 2021)
EllapsedTime: 49.0 seconds
RetCode: 0
Status:   OK  
CheckDir: RBioinf.Rcheck
Warnings: 0

Command output

##############################################################################
##############################################################################
###
### Running command:
###
###   /Library/Frameworks/R.framework/Resources/bin/R CMD check --install=check:RBioinf.install-out.txt --library=/Library/Frameworks/R.framework/Resources/library --no-vignettes --timings RBioinf_1.53.0.tar.gz
###
##############################################################################
##############################################################################


* using log directory ‘/Users/biocbuild/bbs-3.14-bioc/meat/RBioinf.Rcheck’
* using R version 4.1.1 Patched (2021-08-22 r80813)
* using platform: x86_64-apple-darwin17.0 (64-bit)
* using session charset: UTF-8
* using option ‘--no-vignettes’
* checking for file ‘RBioinf/DESCRIPTION’ ... OK
* this is package ‘RBioinf’ version ‘1.53.0’
* checking package namespace information ... OK
* checking package dependencies ... OK
* checking if this is a source package ... OK
* checking if there is a namespace ... OK
* checking for hidden files and directories ... OK
* checking for portable file names ... OK
* checking for sufficient/correct file permissions ... OK
* checking whether package ‘RBioinf’ can be installed ... OK
* checking installed package size ... NOTE
  installed size is 12.4Mb
  sub-directories of 1Mb or more:
    extdata  12.3Mb
* checking package directory ... OK
* checking ‘build’ directory ... OK
* checking DESCRIPTION meta-information ... OK
* checking top-level files ... OK
* checking for left-over files ... OK
* checking index information ... OK
* checking package subdirectories ... OK
* checking R files for non-ASCII characters ... OK
* checking R files for syntax errors ... OK
* checking whether the package can be loaded ... OK
* checking whether the package can be loaded with stated dependencies ... OK
* checking whether the package can be unloaded cleanly ... OK
* checking whether the namespace can be loaded with stated dependencies ... OK
* checking whether the namespace can be unloaded cleanly ... OK
* checking dependencies in R code ... NOTE
Packages in Depends field not imported from:
  ‘graph’ ‘methods’
  These packages need to be imported from (in the NAMESPACE file)
  for when this namespace is loaded but not attached.
Unexported object imported by a ':::' call: ‘methods:::.getMethodsTable’
  See the note in ?`:::` about the use of this operator.
* checking S3 generic/method consistency ... OK
* checking replacement functions ... OK
* checking foreign function calls ... OK
* checking R code for possible problems ... NOTE
class2Graph: warning in matrix(0, nr = nN, nc = nN): partial argument
  match of 'nr' to 'nrow'
class2Graph: warning in matrix(0, nr = nN, nc = nN): partial argument
  match of 'nc' to 'ncol'
LPO: no visible global function definition for ‘getClass’
OLDcplList: no visible global function definition for
  ‘getAllSuperClasses’
OLDcplList: no visible global function definition for ‘getClass’
S4Help: no visible global function definition for ‘isClass’
S4Help: no visible global function definition for ‘getAllSuperClasses’
S4Help: no visible global function definition for ‘getClass’
S4Help: no visible global function definition for ‘menu’
S4Help: no visible global function definition for ‘isGeneric’
S4Help: no visible global function definition for ‘getGeneric’
S4Help: no visible binding for global variable ‘help’
candidateDirectSC: no visible global function definition for ‘getClass’
class2Graph: no visible global function definition for ‘is’
class2Graph: no visible global function definition for ‘getClass’
class2Graph: no visible global function definition for
  ‘getAllSuperClasses’
class2Graph: no visible global function definition for ‘new’
class2Graph: no visible global function definition for ‘as’
classList2Graph: no visible global function definition for ‘join’
computeClassLinearization: no visible global function definition for
  ‘getClass’
printWithNumbers: no visible global function definition for ‘is’
subClassNames: no visible global function definition for ‘isClassDef’
subClassNames: no visible global function definition for ‘getClass’
superClassNames: no visible global function definition for ‘isClassDef’
superClassNames: no visible global function definition for ‘getClass’
superClasses: no visible global function definition for ‘is’
traceMethods: no visible global function definition for ‘isGeneric’
traceMethods: no visible global function definition for ‘showMethods’
Undefined global functions or variables:
  as getAllSuperClasses getClass getGeneric help is isClass isClassDef
  isGeneric join menu new showMethods
Consider adding
  importFrom("methods", "as", "getAllSuperClasses", "getClass",
             "getGeneric", "is", "isClass", "isClassDef", "isGeneric",
             "new", "showMethods")
  importFrom("utils", "help", "menu")
to your NAMESPACE file (and ensure that your DESCRIPTION Imports field
contains 'methods').
* checking Rd files ... OK
* checking Rd metadata ... OK
* checking Rd cross-references ... OK
* checking for missing documentation entries ... OK
* checking for code/documentation mismatches ... OK
* checking Rd \usage sections ... OK
* checking Rd contents ... OK
* checking for unstated dependencies in examples ... OK
* checking line endings in C/C++/Fortran sources/headers ... OK
* checking compiled code ... NOTE
Note: information on .o files is not available
File ‘/Library/Frameworks/R.framework/Versions/4.1/Resources/library/RBioinf/libs/RBioinf.so’:
  Found ‘_printf’, possibly from ‘printf’ (C)

Compiled code should not call entry points which might terminate R nor
write to stdout/stderr instead of to the console, nor use Fortran I/O
nor system RNGs. The detected symbols are linked into the code but
might come from libraries and not actually be called.

See ‘Writing portable packages’ in the ‘Writing R Extensions’ manual.
* checking sizes of PDF files under ‘inst/doc’ ... OK
* checking files in ‘vignettes’ ... OK
* checking examples ... OK
* checking for unstated dependencies in vignettes ... OK
* checking package vignettes in ‘inst/doc’ ... OK
* checking running R code from vignettes ... SKIPPED
* checking re-building of vignette outputs ... SKIPPED
* checking PDF version of manual ... OK
* DONE

Status: 4 NOTEs
See
  ‘/Users/biocbuild/bbs-3.14-bioc/meat/RBioinf.Rcheck/00check.log’
for details.



Installation output

RBioinf.Rcheck/00install.out

##############################################################################
##############################################################################
###
### Running command:
###
###   /Library/Frameworks/R.framework/Resources/bin/R CMD INSTALL RBioinf
###
##############################################################################
##############################################################################


* installing to library ‘/Library/Frameworks/R.framework/Versions/4.1/Resources/library’
* installing *source* package ‘RBioinf’ ...
** using staged installation
** libs
clang -mmacosx-version-min=10.13 -I"/Library/Frameworks/R.framework/Resources/include" -DNDEBUG   -I/usr/local/include   -fPIC  -Wall -g -O2  -c Rinit.c -o Rinit.o
clang -mmacosx-version-min=10.13 -I"/Library/Frameworks/R.framework/Resources/include" -DNDEBUG   -I/usr/local/include   -fPIC  -Wall -g -O2  -c rand.c -o rand.o
clang -mmacosx-version-min=10.13 -dynamiclib -Wl,-headerpad_max_install_names -undefined dynamic_lookup -single_module -multiply_defined suppress -L/Library/Frameworks/R.framework/Resources/lib -L/usr/local/lib -o RBioinf.so Rinit.o rand.o -F/Library/Frameworks/R.framework/.. -framework R -Wl,-framework -Wl,CoreFoundation
installing to /Library/Frameworks/R.framework/Versions/4.1/Resources/library/00LOCK-RBioinf/00new/RBioinf/libs
** R
** inst
** byte-compile and prepare package for lazy loading
** help
*** installing help indices
** building package indices
** installing vignettes
** testing if installed package can be loaded from temporary location
** checking absolute paths in shared objects and dynamic libraries
** testing if installed package can be loaded from final location
** testing if installed package keeps a record of temporary installation path
* DONE (RBioinf)

Tests output


Example timings

RBioinf.Rcheck/RBioinf-Ex.timings

nameusersystemelapsed
Rcal0.0360.0610.109
S4Help000
asSimpleVector0.0000.0000.001
classList2Graph0.1880.0200.208
computeClassLinearization0.0810.0070.089
printWithNumbers0.0010.0000.001
randDNA0.0000.0000.001
simplePVect0.0000.0000.001
simpleRand000
simpleSort0.0000.0000.001
subClassNames0.0010.0000.000
superClasses0.0010.0000.001
traceMethods000