Back to Multiple platform build/check report for BioC 3.14
ABCDEFGHIJKLMNOPQ[R]STUVWXYZ

This page was generated on 2021-10-23 14:07:13 -0400 (Sat, 23 Oct 2021).

BUILD BIN results for RBioinf on merida1

To the developers/maintainers of the RBioinf package:
- Please allow up to 24 hours (and sometimes 48 hours) for your latest push to git@git.bioconductor.org:packages/RBioinf.git to
reflect on this report. See How and When does the builder pull? When will my changes propagate? here for more information.
- Make sure to use the following settings in order to reproduce any error or warning you see on this page.

raw results

Package 1534/2083HostnameOS / ArchINSTALLBUILDCHECKBUILD BIN
RBioinf 1.53.0  (landing page)
Robert Gentleman
Snapshot Date: 2021-10-22 14:50:11 -0400 (Fri, 22 Oct 2021)
git_url: https://git.bioconductor.org/packages/RBioinf
git_branch: master
git_last_commit: 1337231
git_last_commit_date: 2021-05-19 11:40:41 -0400 (Wed, 19 May 2021)
nebbiolo2Linux (Ubuntu 20.04.2 LTS) / x86_64  OK    OK    OK  UNNEEDED, same version is already published
riesling1Windows Server 2019 Standard / x64  OK    OK    OK    OK  UNNEEDED, same version is already published
merida1macOS 10.14.6 Mojave / x86_64  OK    OK    OK    OK  UNNEEDED, same version is already published

Summary

Package: RBioinf
Version: 1.53.0
Command: rm -rf RBioinf.buildbin-libdir && mkdir RBioinf.buildbin-libdir && /Users/biocbuild/BBS/utils/build-universal.sh RBioinf_1.53.0.tar.gz /Library/Frameworks/R.framework/Resources/bin/R RBioinf.buildbin-libdir
StartedAt: 2021-10-23 13:02:38 -0400 (Sat, 23 Oct 2021)
EndedAt: 2021-10-23 13:03:36 -0400 (Sat, 23 Oct 2021)
EllapsedTime: 57.2 seconds
RetCode: 0
Status:   OK  
PackageFile: RBioinf_1.53.0.tgz
PackageFileSize: 3.514 MiB

Command output

##############################################################################
##############################################################################
###
### Running command:
###
###   rm -rf RBioinf.buildbin-libdir && mkdir RBioinf.buildbin-libdir && /Users/biocbuild/BBS/utils/build-universal.sh RBioinf_1.53.0.tar.gz /Library/Frameworks/R.framework/Resources/bin/R RBioinf.buildbin-libdir
###
##############################################################################
##############################################################################


>>>>>>> 
>>>>>>> INSTALLATION WITH 'R CMD INSTALL --preclean --no-multiarch --library=RBioinf.buildbin-libdir RBioinf_1.53.0.tar.gz'
>>>>>>> 

* installing *source* package ‘RBioinf’ ...
** using staged installation
** libs
clang -mmacosx-version-min=10.13 -I"/Library/Frameworks/R.framework/Resources/include" -DNDEBUG   -I/usr/local/include   -fPIC  -Wall -g -O2  -c Rinit.c -o Rinit.o
clang -mmacosx-version-min=10.13 -I"/Library/Frameworks/R.framework/Resources/include" -DNDEBUG   -I/usr/local/include   -fPIC  -Wall -g -O2  -c rand.c -o rand.o
clang -mmacosx-version-min=10.13 -dynamiclib -Wl,-headerpad_max_install_names -undefined dynamic_lookup -single_module -multiply_defined suppress -L/Library/Frameworks/R.framework/Resources/lib -L/usr/local/lib -o RBioinf.so Rinit.o rand.o -F/Library/Frameworks/R.framework/.. -framework R -Wl,-framework -Wl,CoreFoundation
installing to /Users/biocbuild/bbs-3.14-bioc/meat/RBioinf.buildbin-libdir/00LOCK-RBioinf/00new/RBioinf/libs
** R
** inst
** byte-compile and prepare package for lazy loading
** help
*** installing help indices
** building package indices
** installing vignettes
** testing if installed package can be loaded from temporary location
** checking absolute paths in shared objects and dynamic libraries
** testing if installed package can be loaded from final location
** testing if installed package keeps a record of temporary installation path
* DONE (RBioinf)


>>>>>>> 
>>>>>>> FIXING LINKS FOR RBioinf.buildbin-libdir/RBioinf/libs/RBioinf.so
>>>>>>> 

install_name_tool -change "/usr/local/lib/libgcc_s.1.dylib" "/Library/Frameworks/R.framework/Versions/4.1/Resources/lib/libgcc_s.1.dylib" "RBioinf.buildbin-libdir/RBioinf/libs/RBioinf.so"
install_name_tool -change "/usr/local/lib/libgfortran.5.dylib" "/Library/Frameworks/R.framework/Versions/4.1/Resources/lib/libgfortran.5.dylib" "RBioinf.buildbin-libdir/RBioinf/libs/RBioinf.so"
install_name_tool -change "/usr/local/lib/libquadmath.0.dylib" "/Library/Frameworks/R.framework/Versions/4.1/Resources/lib/libquadmath.0.dylib" "RBioinf.buildbin-libdir/RBioinf/libs/RBioinf.so"