Back to Multiple platform build/check report for BioC 3.14
ABCDEFGHIJKLMNOPQ[R]STUVWXYZ

This page was generated on 2021-09-22 12:05:22 -0400 (Wed, 22 Sep 2021).

BUILD results for RBGL on riesling1

To the developers/maintainers of the RBGL package:
- Please allow up to 24 hours (and sometimes 48 hours) for your latest push to git@git.bioconductor.org:packages/RBGL.git to
reflect on this report. See How and When does the builder pull? When will my changes propagate? here for more information.
- Make sure to use the following settings in order to reproduce any error or warning you see on this page.

raw results

Package 1495/2029HostnameOS / ArchINSTALLBUILDCHECKBUILD BIN
RBGL 1.69.0  (landing page)
Bioconductor Package Maintainer
Snapshot Date: 2021-09-21 14:50:05 -0400 (Tue, 21 Sep 2021)
git_url: https://git.bioconductor.org/packages/RBGL
git_branch: master
git_last_commit: 8b27a02
git_last_commit_date: 2021-05-19 11:33:37 -0400 (Wed, 19 May 2021)
nebbiolo2Linux (Ubuntu 20.04.2 LTS) / x86_64  OK    OK    WARNINGS  UNNEEDED, same version is already published
riesling1Windows Server 2019 Standard / x64  OK    OK    WARNINGS    OK  UNNEEDED, same version is already published
merida1macOS 10.14.6 Mojave / x86_64  OK    OK    OK    OK  UNNEEDED, same version is already published

Summary

Package: RBGL
Version: 1.69.0
Command: chmod a+r RBGL -R && D:\biocbuild\bbs-3.14-bioc\R\bin\R.exe CMD build --keep-empty-dirs --no-resave-data RBGL
StartedAt: 2021-09-21 22:28:09 -0400 (Tue, 21 Sep 2021)
EndedAt: 2021-09-21 22:31:59 -0400 (Tue, 21 Sep 2021)
EllapsedTime: 229.8 seconds
RetCode: 0
Status:   OK  
PackageFile: RBGL_1.69.0.tar.gz
PackageFileSize: 2.174 MiB

Command output

##############################################################################
##############################################################################
###
### Running command:
###
###   chmod a+r RBGL -R && D:\biocbuild\bbs-3.14-bioc\R\bin\R.exe CMD build --keep-empty-dirs --no-resave-data RBGL
###
##############################################################################
##############################################################################


* checking for file 'RBGL/DESCRIPTION' ... OK
* preparing 'RBGL':
* checking DESCRIPTION meta-information ... OK
* cleaning src
* installing the package to build vignettes
* creating vignettes ... OK
* cleaning src
* checking for LF line-endings in source and make files and shell scripts
* checking for empty or unneeded directories
* looking to see if a 'data/datalist' file should be added
* building 'RBGL_1.69.0.tar.gz'