Back to Multiple platform build/check report for BioC 3.14
ABCDEFGHIJKLMNOPQ[R]STUVWXYZ

This page was generated on 2021-07-24 12:06:43 -0400 (Sat, 24 Jul 2021).

BUILD results for RBGL on merida1

To the developers/maintainers of the RBGL package:
- Please allow up to 24 hours (and sometimes 48 hours) for your latest push to git@git.bioconductor.org:packages/RBGL.git to
reflect on this report. See How and When does the builder pull? When will my changes propagate? here for more information.
- Make sure to use the following settings in order to reproduce any error or warning you see on this page.

raw results

Package 1482/2008HostnameOS / ArchINSTALLBUILDCHECKBUILD BIN
RBGL 1.69.0  (landing page)
Bioconductor Package Maintainer
Snapshot Date: 2021-07-23 14:50:08 -0400 (Fri, 23 Jul 2021)
URL: https://git.bioconductor.org/packages/RBGL
Branch: master
Last Commit: 8b27a02
Last Changed Date: 2021-05-19 11:33:37 -0400 (Wed, 19 May 2021)
nebbiolo2Linux (Ubuntu 20.04.2 LTS) / x86_64  OK    OK    WARNINGS  UNNEEDED, same version is already published
riesling1Windows Server 2019 Standard / x64  OK    OK    WARNINGS    OK  UNNEEDED, same version is already published
merida1macOS 10.14.6 Mojave / x86_64  OK    OK    OK    OK  UNNEEDED, same version is already published

Summary

Package: RBGL
Version: 1.69.0
Command: /Library/Frameworks/R.framework/Resources/bin/R CMD build --keep-empty-dirs --no-resave-data RBGL
StartedAt: 2021-07-23 21:36:42 -0400 (Fri, 23 Jul 2021)
EndedAt: 2021-07-23 21:39:28 -0400 (Fri, 23 Jul 2021)
EllapsedTime: 166.1 seconds
RetCode: 0
Status:   OK  
PackageFile: RBGL_1.69.0.tar.gz
PackageFileSize: 2.175 MiB

Command output

##############################################################################
##############################################################################
###
### Running command:
###
###   /Library/Frameworks/R.framework/Resources/bin/R CMD build --keep-empty-dirs --no-resave-data RBGL
###
##############################################################################
##############################################################################


* checking for file ‘RBGL/DESCRIPTION’ ... OK
* preparing ‘RBGL’:
* checking DESCRIPTION meta-information ... OK
* cleaning src
* installing the package to build vignettes
* creating vignettes ... OK
* cleaning src
* checking for LF line-endings in source and make files and shell scripts
* checking for empty or unneeded directories
* looking to see if a ‘data/datalist’ file should be added
* building ‘RBGL_1.69.0.tar.gz’