Back to Multiple platform build/check report for BioC 3.14
ABCDEFGHIJKLMNOPQ[R]STUVWXYZ

This page was generated on 2021-09-21 12:05:20 -0400 (Tue, 21 Sep 2021).

All results for package RBGL

To the developers/maintainers of the RBGL package:
- Please allow up to 24 hours (and sometimes 48 hours) for your latest push to git@git.bioconductor.org:packages/RBGL.git to
reflect on this report. See How and When does the builder pull? When will my changes propagate? here for more information.
- Make sure to use the following settings in order to reproduce any error or warning you see on this page.

raw results

Package 1495/2029HostnameOS / ArchINSTALLBUILDCHECKBUILD BIN
RBGL 1.69.0  (landing page)
Bioconductor Package Maintainer
Snapshot Date: 2021-09-20 14:50:09 -0400 (Mon, 20 Sep 2021)
git_url: https://git.bioconductor.org/packages/RBGL
git_branch: master
git_last_commit: 8b27a02
git_last_commit_date: 2021-05-19 11:33:37 -0400 (Wed, 19 May 2021)
nebbiolo2Linux (Ubuntu 20.04.2 LTS) / x86_64  OK    OK    WARNINGS  UNNEEDED, same version is already published
riesling1Windows Server 2019 Standard / x64  OK    OK    WARNINGS    OK  UNNEEDED, same version is already published
merida1macOS 10.14.6 Mojave / x86_64  OK    OK    OK    OK  UNNEEDED, same version is already published

Results for Bioconductor software packages that depend directly on package RBGL

QUICK STATSOS / ArchINSTALLBUILDCHECKBUILD BIN
nebbiolo2Linux (Ubuntu 20.04.2 LTS) / x86_64
0030
0030
01425
riesling1Windows Server 2019 Standard / x64
0027
0027
02421
0027
merida1macOS 10.14.6 Mojave / x86_64
0028
0028
01423
0027
Package 1/30HostnameOS / ArchINSTALLBUILDCHECKBUILD BIN
alpine 1.19.1  (landing page)
Michael Love
git_last_commit: 63a3bc2
git_last_commit_date: 2021-07-26 17:07:33 -0400
nebbiolo2Linux (Ubuntu 20.04.2 LTS) / x86_64  OK    OK    OK  UNNEEDED, same version is already published
riesling1Windows Server 2019 Standard / x64  OK    OK    OK    OK  UNNEEDED, same version is already published
merida1macOS 10.14.6 Mojave / x86_64  OK    OK    OK    OK  UNNEEDED, same version is already published
Package 2/30HostnameOS / ArchINSTALLBUILDCHECKBUILD BIN
apComplex 2.59.0  (landing page)
Denise Scholtens
git_last_commit: 0149fb2
git_last_commit_date: 2021-05-19 11:35:18 -0400
nebbiolo2Linux (Ubuntu 20.04.2 LTS) / x86_64  OK    OK    OK  UNNEEDED, same version is already published
riesling1Windows Server 2019 Standard / x64  OK    OK    OK    OK  UNNEEDED, same version is already published
merida1macOS 10.14.6 Mojave / x86_64  OK    OK    OK    OK  UNNEEDED, same version is already published
Package 3/30HostnameOS / ArchINSTALLBUILDCHECKBUILD BIN
BiocPkgTools 1.11.11  (landing page)
Sean Davis
git_last_commit: e3ac0c5
git_last_commit_date: 2021-09-16 12:13:22 -0400
nebbiolo2Linux (Ubuntu 20.04.2 LTS) / x86_64  OK    OK    OK  UNNEEDED, same version is already published
riesling1Windows Server 2019 Standard / x64  OK    OK    OK    OK  UNNEEDED, same version is already published
merida1macOS 10.14.6 Mojave / x86_64  OK    OK    OK    OK  UNNEEDED, same version is already published
Package 4/30HostnameOS / ArchINSTALLBUILDCHECKBUILD BIN
biocViews 1.61.1  (landing page)
Bioconductor Package Maintainer
git_last_commit: f059205
git_last_commit_date: 2021-07-30 09:56:02 -0400
nebbiolo2Linux (Ubuntu 20.04.2 LTS) / x86_64  OK    OK    OK  UNNEEDED, same version is already published
riesling1Windows Server 2019 Standard / x64  OK    OK    OK    OK  UNNEEDED, same version is already published
merida1macOS 10.14.6 Mojave / x86_64  OK    OK    OK    OK  UNNEEDED, same version is already published
Package 5/30HostnameOS / ArchINSTALLBUILDCHECKBUILD BIN
BioNet 1.53.0  (landing page)
Marcus Dittrich
git_last_commit: 03b89bc
git_last_commit_date: 2021-05-19 11:46:01 -0400
nebbiolo2Linux (Ubuntu 20.04.2 LTS) / x86_64  OK    OK    OK  UNNEEDED, same version is already published
riesling1Windows Server 2019 Standard / x64  OK    OK    OK    OK  UNNEEDED, same version is already published
merida1macOS 10.14.6 Mojave / x86_64  OK    OK    OK    OK  UNNEEDED, same version is already published
Package 6/30HostnameOS / ArchINSTALLBUILDCHECKBUILD BIN
CAMERA 1.49.0  (landing page)
Steffen Neumann
git_last_commit: b8a89bf
git_last_commit_date: 2021-05-19 11:42:44 -0400
nebbiolo2Linux (Ubuntu 20.04.2 LTS) / x86_64  OK    OK    OK  UNNEEDED, same version is already published
riesling1Windows Server 2019 Standard / x64  OK    OK    OK    OK  UNNEEDED, same version is already published
merida1macOS 10.14.6 Mojave / x86_64  OK    OK    OK    OK  UNNEEDED, same version is already published
Package 7/30HostnameOS / ArchINSTALLBUILDCHECKBUILD BIN
Category 2.59.0  (landing page)
Bioconductor Package Maintainer
git_last_commit: 0a1b891
git_last_commit_date: 2021-05-19 11:35:55 -0400
nebbiolo2Linux (Ubuntu 20.04.2 LTS) / x86_64  OK    OK    OK  UNNEEDED, same version is already published
riesling1Windows Server 2019 Standard / x64  OK    OK    OK    OK  UNNEEDED, same version is already published
merida1macOS 10.14.6 Mojave / x86_64  OK    OK    OK    OK  UNNEEDED, same version is already published
Package 8/30HostnameOS / ArchINSTALLBUILDCHECKBUILD BIN
CellNOptR 1.39.0  (landing page)
A.Gabor
git_last_commit: c2e21a6
git_last_commit_date: 2021-05-19 11:50:40 -0400
nebbiolo2Linux (Ubuntu 20.04.2 LTS) / x86_64  OK    OK    WARNINGS  UNNEEDED, same version is already published
riesling1Windows Server 2019 Standard / x64  OK    OK    WARNINGS    OK  UNNEEDED, same version is already published
merida1macOS 10.14.6 Mojave / x86_64  OK    OK    WARNINGS    OK  UNNEEDED, same version is already published
Package 9/30HostnameOS / ArchINSTALLBUILDCHECKBUILD BIN
ChIPpeakAnno 3.27.6  (landing page)
Jianhong Ou
git_last_commit: 66a9c05
git_last_commit_date: 2021-09-09 15:08:28 -0400
nebbiolo2Linux (Ubuntu 20.04.2 LTS) / x86_64  OK    OK    OK  UNNEEDED, same version is already published
riesling1Windows Server 2019 Standard / x64  OK    OK    ERROR    OK  
merida1macOS 10.14.6 Mojave / x86_64  OK    OK    OK    OK  UNNEEDED, same version is already published
Package 10/30HostnameOS / ArchINSTALLBUILDCHECKBUILD BIN
CHRONOS 1.21.1  (landing page)
Panos Balomenos
git_last_commit: df692f5
git_last_commit_date: 2021-07-27 14:09:00 -0400
nebbiolo2Linux (Ubuntu 20.04.2 LTS) / x86_64  OK    OK    OK  UNNEEDED, same version is already published
riesling1Windows Server 2019 Standard / x64  OK    OK    OK    OK  UNNEEDED, same version is already published
merida1macOS 10.14.6 Mojave / x86_64  OK    OK    OK    OK  UNNEEDED, same version is already published
Package 11/30HostnameOS / ArchINSTALLBUILDCHECKBUILD BIN
clipper 1.33.0  (landing page)
Paolo Martini
git_last_commit: 2b5f6b6
git_last_commit_date: 2021-05-19 11:57:18 -0400
nebbiolo2Linux (Ubuntu 20.04.2 LTS) / x86_64  OK    OK    OK  UNNEEDED, same version is already published
riesling1Windows Server 2019 Standard / x64  OK    OK    OK    OK  UNNEEDED, same version is already published
merida1macOS 10.14.6 Mojave / x86_64  OK    OK    OK    OK  UNNEEDED, same version is already published
Package 12/30HostnameOS / ArchINSTALLBUILDCHECKBUILD BIN
CytoML 2.5.4  (landing page)
Mike Jiang
git_last_commit: 25aee0d
git_last_commit_date: 2021-08-02 13:10:43 -0400
nebbiolo2Linux (Ubuntu 20.04.2 LTS) / x86_64  OK    OK    WARNINGS  UNNEEDED, same version is already published
riesling1Windows Server 2019 Standard / x64  OK    OK    WARNINGS    OK  UNNEEDED, same version is already published
merida1macOS 10.14.6 Mojave / x86_64  OK    OK    WARNINGS    OK  UNNEEDED, same version is already published
Package 13/30HostnameOS / ArchINSTALLBUILDCHECKBUILD BIN
DEGraph 1.45.0  (landing page)
Laurent Jacob
git_last_commit: 4ae108c
git_last_commit_date: 2021-05-19 11:46:48 -0400
nebbiolo2Linux (Ubuntu 20.04.2 LTS) / x86_64  OK    OK    OK  UNNEEDED, same version is already published
riesling1Windows Server 2019 Standard / x64... NOT SUPPORTED ...
merida1macOS 10.14.6 Mojave / x86_64... NOT SUPPORTED ...
Package 14/30HostnameOS / ArchINSTALLBUILDCHECKBUILD BIN
DEsubs 1.19.1  (landing page)
Aristidis G. Vrahatis , Panos Balomenos
git_last_commit: fe35de3
git_last_commit_date: 2021-06-18 19:34:29 -0400
nebbiolo2Linux (Ubuntu 20.04.2 LTS) / x86_64  OK    OK    OK  UNNEEDED, same version is already published
riesling1Windows Server 2019 Standard / x64  OK    OK    OK    OK  UNNEEDED, same version is already published
merida1macOS 10.14.6 Mojave / x86_64  OK    OK    OK    OK  UNNEEDED, same version is already published
Package 15/30HostnameOS / ArchINSTALLBUILDCHECKBUILD BIN
EventPointer 3.1.0  (landing page)
Juan A. Ferrer-Bonsoms
git_last_commit: ed9dd41
git_last_commit_date: 2021-05-19 12:26:09 -0400
nebbiolo2Linux (Ubuntu 20.04.2 LTS) / x86_64  OK    OK    OK  UNNEEDED, same version is already published
riesling1Windows Server 2019 Standard / x64  OK    OK    OK    OK  UNNEEDED, same version is already published
merida1macOS 10.14.6 Mojave / x86_64  OK    OK    OK    OK  UNNEEDED, same version is already published
Package 16/30HostnameOS / ArchINSTALLBUILDCHECKBUILD BIN
fgga 1.1.0  (landing page)
Spetale Flavio
git_last_commit: 3037f1e
git_last_commit_date: 2021-05-19 13:03:00 -0400
nebbiolo2Linux (Ubuntu 20.04.2 LTS) / x86_64  OK    OK    OK  UNNEEDED, same version is already published
riesling1Windows Server 2019 Standard / x64  OK    OK    OK    OK  UNNEEDED, same version is already published
merida1macOS 10.14.6 Mojave / x86_64  OK    OK    OK    OK  UNNEEDED, same version is already published
Package 17/30HostnameOS / ArchINSTALLBUILDCHECKBUILD BIN
flowWorkspace 4.5.3  (landing page)
Greg Finak , Mike Jiang
git_last_commit: c85799e7
git_last_commit_date: 2021-07-30 13:33:21 -0400
nebbiolo2Linux (Ubuntu 20.04.2 LTS) / x86_64  OK    OK    WARNINGS  UNNEEDED, same version is already published
riesling1Windows Server 2019 Standard / x64  OK    OK    WARNINGS    OK  UNNEEDED, same version is already published
merida1macOS 10.14.6 Mojave / x86_64  OK    OK    WARNINGS    OK  UNNEEDED, same version is already published
Package 18/30HostnameOS / ArchINSTALLBUILDCHECKBUILD BIN
GAPGOM 1.9.0  (landing page)
Rezvan Ehsani
git_last_commit: c8c74ff
git_last_commit_date: 2021-05-19 12:40:41 -0400
nebbiolo2Linux (Ubuntu 20.04.2 LTS) / x86_64  OK    OK    OK  UNNEEDED, same version is already published
riesling1Windows Server 2019 Standard / x64  OK    OK    OK    OK  UNNEEDED, same version is already published
merida1macOS 10.14.6 Mojave / x86_64  OK    OK    OK    OK  UNNEEDED, same version is already published
Package 19/30HostnameOS / ArchINSTALLBUILDCHECKBUILD BIN
GeneAnswers 2.35.1  (landing page)
Lei Huang and Gang Feng
git_last_commit: 187eb87
git_last_commit_date: 2021-06-21 11:00:38 -0400
nebbiolo2Linux (Ubuntu 20.04.2 LTS) / x86_64  OK    OK    ERROR  
riesling1Windows Server 2019 Standard / x64  OK    OK    ERROR    OK  
merida1macOS 10.14.6 Mojave / x86_64  OK    OK    ERROR    OK  
Package 20/30HostnameOS / ArchINSTALLBUILDCHECKBUILD BIN
GOSim 1.31.0  (landing page)
Holger Froehlich
git_last_commit: 88e442e
git_last_commit_date: 2021-05-19 12:00:43 -0400
nebbiolo2Linux (Ubuntu 20.04.2 LTS) / x86_64  OK    OK    OK  UNNEEDED, same version is already published
riesling1Windows Server 2019 Standard / x64  OK    OK    OK    OK  UNNEEDED, same version is already published
merida1macOS 10.14.6 Mojave / x86_64  OK    OK    OK    OK  UNNEEDED, same version is already published
Package 21/30HostnameOS / ArchINSTALLBUILDCHECKBUILD BIN
GOstats 2.59.1  (landing page)
Bioconductor Package Maintainer
git_last_commit: 9298b1e
git_last_commit_date: 2021-08-04 17:32:07 -0400
nebbiolo2Linux (Ubuntu 20.04.2 LTS) / x86_64  OK    OK    OK  UNNEEDED, same version is already published
riesling1Windows Server 2019 Standard / x64  OK    OK    OK    OK  UNNEEDED, same version is already published
merida1macOS 10.14.6 Mojave / x86_64  OK    OK    OK    OK  UNNEEDED, same version is already published
Package 22/30HostnameOS / ArchINSTALLBUILDCHECKBUILD BIN
MIGSA 1.17.0  (landing page)
Juan C. Rodriguez
git_last_commit: a68b34c
git_last_commit_date: 2021-05-19 12:26:14 -0400
nebbiolo2Linux (Ubuntu 20.04.2 LTS) / x86_64  OK    OK    OK  UNNEEDED, same version is already published
riesling1Windows Server 2019 Standard / x64  OK    OK    OK    OK  UNNEEDED, same version is already published
merida1macOS 10.14.6 Mojave / x86_64  OK    OK    OK    OK  UNNEEDED, same version is already published
Package 23/30HostnameOS / ArchINSTALLBUILDCHECKBUILD BIN
NCIgraph 1.41.0  (landing page)
Laurent Jacob
git_last_commit: 8cc4cb8
git_last_commit_date: 2021-05-19 11:48:14 -0400
nebbiolo2Linux (Ubuntu 20.04.2 LTS) / x86_64  OK    OK    OK  UNNEEDED, same version is already published
riesling1Windows Server 2019 Standard / x64... NOT SUPPORTED ...
merida1macOS 10.14.6 Mojave / x86_64... NOT SUPPORTED ...
Package 24/30HostnameOS / ArchINSTALLBUILDCHECKBUILD BIN
openCyto 2.5.4  (landing page)
Mike Jiang ,Jake Wagner
git_last_commit: 22c609b
git_last_commit_date: 2021-07-30 13:41:51 -0400
nebbiolo2Linux (Ubuntu 20.04.2 LTS) / x86_64  OK    OK    OK  UNNEEDED, same version is already published
riesling1Windows Server 2019 Standard / x64  OK    OK    OK    OK  UNNEEDED, same version is already published
merida1macOS 10.14.6 Mojave / x86_64  OK    OK    OK    OK  UNNEEDED, same version is already published
Package 25/30HostnameOS / ArchINSTALLBUILDCHECKBUILD BIN
OrganismDbi 1.35.0  (landing page)
Bioconductor Package Maintainer
git_last_commit: 22bca21
git_last_commit_date: 2021-05-19 11:53:46 -0400
nebbiolo2Linux (Ubuntu 20.04.2 LTS) / x86_64  OK    OK    WARNINGS  UNNEEDED, same version is already published
riesling1Windows Server 2019 Standard / x64  OK    OK    WARNINGS    OK  UNNEEDED, same version is already published
merida1macOS 10.14.6 Mojave / x86_64  OK    OK    WARNINGS    OK  UNNEEDED, same version is already published
Package 26/30HostnameOS / ArchINSTALLBUILDCHECKBUILD BIN
pkgDepTools 1.59.0  (landing page)
Bioconductor Package Maintainer
git_last_commit: bebedff
git_last_commit_date: 2021-05-19 11:38:05 -0400
nebbiolo2Linux (Ubuntu 20.04.2 LTS) / x86_64  OK    OK    OK  UNNEEDED, same version is already published
riesling1Windows Server 2019 Standard / x64  OK    OK    OK    OK  UNNEEDED, same version is already published
merida1macOS 10.14.6 Mojave / x86_64  OK    OK    OK    OK  UNNEEDED, same version is already published
Package 27/30HostnameOS / ArchINSTALLBUILDCHECKBUILD BIN
predictionet 1.39.0  (landing page)
Benjamin Haibe-Kains
git_last_commit: ffdf209
git_last_commit_date: 2021-05-19 11:50:21 -0400
nebbiolo2Linux (Ubuntu 20.04.2 LTS) / x86_64  OK    OK    OK  UNNEEDED, same version is already published
riesling1Windows Server 2019 Standard / x64... NOT SUPPORTED ...
merida1macOS 10.14.6 Mojave / x86_64  OK    OK    OK    OK  UNNEEDED, same version is already published
Package 28/30HostnameOS / ArchINSTALLBUILDCHECKBUILD BIN
RpsiXML 2.35.0  (landing page)
Jitao David Zhang
git_last_commit: 922358c
git_last_commit_date: 2021-05-19 11:41:31 -0400
nebbiolo2Linux (Ubuntu 20.04.2 LTS) / x86_64  OK    OK    OK  UNNEEDED, same version is already published
riesling1Windows Server 2019 Standard / x64  OK    OK    OK    OK  UNNEEDED, same version is already published
merida1macOS 10.14.6 Mojave / x86_64  OK    OK    OK    OK  UNNEEDED, same version is already published
Package 29/30HostnameOS / ArchINSTALLBUILDCHECKBUILD BIN
Streamer 1.39.0  (landing page)
Martin Morgan
git_last_commit: ef69ecd
git_last_commit_date: 2021-05-19 11:49:23 -0400
nebbiolo2Linux (Ubuntu 20.04.2 LTS) / x86_64  OK    OK    OK  UNNEEDED, same version is already published
riesling1Windows Server 2019 Standard / x64  OK    OK    OK    OK  UNNEEDED, same version is already published
merida1macOS 10.14.6 Mojave / x86_64  OK    OK    OK    OK  UNNEEDED, same version is already published
Package 30/30HostnameOS / ArchINSTALLBUILDCHECKBUILD BIN
VariantFiltering 1.29.0  (landing page)
Robert Castelo
git_last_commit: 633fbd5
git_last_commit_date: 2021-05-19 12:04:28 -0400
nebbiolo2Linux (Ubuntu 20.04.2 LTS) / x86_64  OK    OK    OK  UNNEEDED, same version is already published
riesling1Windows Server 2019 Standard / x64  OK    OK    OK    OK  UNNEEDED, same version is already published
merida1macOS 10.14.6 Mojave / x86_64  OK    OK    OK    NA