Back to Multiple platform build/check report for BioC 3.14
ABCDEFGHIJKLMNO[P]QRSTUVWXYZ

This page was generated on 2021-07-24 12:06:08 -0400 (Sat, 24 Jul 2021).

BUILD BIN results for ProteomicsAnnotationHubData on riesling1

To the developers/maintainers of the ProteomicsAnnotationHubData package:
- Please allow up to 24 hours (and sometimes 48 hours) for your latest push to git@git.bioconductor.org:packages/ProteomicsAnnotationHubData.git to
reflect on this report. See How and When does the builder pull? When will my changes propagate? here for more information.
- Make sure to use the following settings in order to reproduce any error or warning you see on this page.

raw results

Package 1425/2008HostnameOS / ArchINSTALLBUILDCHECKBUILD BIN
ProteomicsAnnotationHubData 1.23.0  (landing page)
Laurent Gatto
Snapshot Date: 2021-07-23 14:50:08 -0400 (Fri, 23 Jul 2021)
URL: https://git.bioconductor.org/packages/ProteomicsAnnotationHubData
Branch: master
Last Commit: 84ed67a
Last Changed Date: 2021-05-19 12:15:31 -0400 (Wed, 19 May 2021)
nebbiolo2Linux (Ubuntu 20.04.2 LTS) / x86_64  OK    OK    OK  UNNEEDED, same version is already published
riesling1Windows Server 2019 Standard / x64  OK    OK    OK    OK  UNNEEDED, same version is already published
merida1macOS 10.14.6 Mojave / x86_64  OK    OK    OK    OK  UNNEEDED, same version is already published

Summary

Package: ProteomicsAnnotationHubData
Version: 1.23.0
Command: rm -rf ProteomicsAnnotationHubData.buildbin-libdir && mkdir ProteomicsAnnotationHubData.buildbin-libdir && D:\biocbuild\bbs-3.14-bioc\R\bin\R.exe CMD INSTALL --merge-multiarch --build --library=ProteomicsAnnotationHubData.buildbin-libdir ProteomicsAnnotationHubData_1.23.0.tar.gz
StartedAt: 2021-07-24 05:38:57 -0400 (Sat, 24 Jul 2021)
EndedAt: 2021-07-24 05:42:48 -0400 (Sat, 24 Jul 2021)
EllapsedTime: 231.3 seconds
RetCode: 0
Status:   OK  
PackageFile: ProteomicsAnnotationHubData_1.23.0.zip
PackageFileSize: 305.3 KiB

Command output

##############################################################################
##############################################################################
###
### Running command:
###
###   rm -rf ProteomicsAnnotationHubData.buildbin-libdir && mkdir ProteomicsAnnotationHubData.buildbin-libdir && D:\biocbuild\bbs-3.14-bioc\R\bin\R.exe CMD INSTALL --merge-multiarch --build --library=ProteomicsAnnotationHubData.buildbin-libdir ProteomicsAnnotationHubData_1.23.0.tar.gz
###
##############################################################################
##############################################################################



install for i386

* installing *source* package 'ProteomicsAnnotationHubData' ...
** using staged installation
** R
** inst
** byte-compile and prepare package for lazy loading
** help
*** installing help indices
  converting help for package 'ProteomicsAnnotationHubData'
    finding HTML links ... done
    PAHD-class                              html  
    PAHD                                    html  
    ProteomicsAnnotationHubData             html  
    identicalRemLoc                         html  
    makeAnnotationHubMetadata               html  
    readPahdFiles                           html  
    writePahdTemplate                       html  
** building package indices
** installing vignettes
** testing if installed package can be loaded from temporary location
** testing if installed package can be loaded from final location
** testing if installed package keeps a record of temporary installation path

install for x64

* installing *source* package 'ProteomicsAnnotationHubData' ...
** testing if installed package can be loaded
* MD5 sums
packaged installation of 'ProteomicsAnnotationHubData' as ProteomicsAnnotationHubData_1.23.0.zip
* DONE (ProteomicsAnnotationHubData)