Back to Multiple platform build/check report for BioC 3.14
ABCDEFGHIJKLMNO[P]QRSTUVWXYZ

This page was generated on 2021-09-21 12:06:14 -0400 (Tue, 21 Sep 2021).

CHECK results for Pigengene on riesling1

To the developers/maintainers of the Pigengene package:
- Please allow up to 24 hours (and sometimes 48 hours) for your latest push to git@git.bioconductor.org:packages/Pigengene.git to
reflect on this report. See How and When does the builder pull? When will my changes propagate? here for more information.
- Make sure to use the following settings in order to reproduce any error or warning you see on this page.

raw results

Package 1383/2029HostnameOS / ArchINSTALLBUILDCHECKBUILD BIN
Pigengene 1.19.30  (landing page)
Habil Zare
Snapshot Date: 2021-09-20 14:50:09 -0400 (Mon, 20 Sep 2021)
git_url: https://git.bioconductor.org/packages/Pigengene
git_branch: master
git_last_commit: 5fabe13
git_last_commit_date: 2021-09-08 14:08:30 -0400 (Wed, 08 Sep 2021)
nebbiolo2Linux (Ubuntu 20.04.2 LTS) / x86_64  OK    OK    OK  UNNEEDED, same version is already published
riesling1Windows Server 2019 Standard / x64  OK    OK    OK    OK  UNNEEDED, same version is already published
merida1macOS 10.14.6 Mojave / x86_64  OK    OK    OK    OK  UNNEEDED, same version is already published

Summary

Package: Pigengene
Version: 1.19.30
Command: D:\biocbuild\bbs-3.14-bioc\R\bin\R.exe CMD check --force-multiarch --install=check:Pigengene.install-out.txt --library=D:\biocbuild\bbs-3.14-bioc\R\library --no-vignettes --timings Pigengene_1.19.30.tar.gz
StartedAt: 2021-09-21 02:22:47 -0400 (Tue, 21 Sep 2021)
EndedAt: 2021-09-21 02:35:09 -0400 (Tue, 21 Sep 2021)
EllapsedTime: 741.9 seconds
RetCode: 0
Status:   OK  
CheckDir: Pigengene.Rcheck
Warnings: 0

Command output

##############################################################################
##############################################################################
###
### Running command:
###
###   D:\biocbuild\bbs-3.14-bioc\R\bin\R.exe CMD check --force-multiarch --install=check:Pigengene.install-out.txt --library=D:\biocbuild\bbs-3.14-bioc\R\library --no-vignettes --timings Pigengene_1.19.30.tar.gz
###
##############################################################################
##############################################################################


* using log directory 'D:/biocbuild/bbs-3.14-bioc/meat/Pigengene.Rcheck'
* using R version 4.1.1 (2021-08-10)
* using platform: x86_64-w64-mingw32 (64-bit)
* using session charset: ISO8859-1
* using option '--no-vignettes'
* checking for file 'Pigengene/DESCRIPTION' ... OK
* checking extension type ... Package
* this is package 'Pigengene' version '1.19.30'
* checking package namespace information ... OK
* checking package dependencies ... OK
* checking if this is a source package ... OK
* checking if there is a namespace ... OK
* checking for hidden files and directories ... OK
* checking for portable file names ... OK
* checking whether package 'Pigengene' can be installed ... OK
* checking installed package size ... OK
* checking package directory ... OK
* checking 'build' directory ... OK
* checking DESCRIPTION meta-information ... OK
* checking top-level files ... OK
* checking for left-over files ... OK
* checking index information ... OK
* checking package subdirectories ... OK
* checking R files for non-ASCII characters ... OK
* checking R files for syntax errors ... OK
* loading checks for arch 'i386'
** checking whether the package can be loaded ... OK
** checking whether the package can be loaded with stated dependencies ... OK
** checking whether the package can be unloaded cleanly ... OK
** checking whether the namespace can be loaded with stated dependencies ... OK
** checking whether the namespace can be unloaded cleanly ... OK
* loading checks for arch 'x64'
** checking whether the package can be loaded ... OK
** checking whether the package can be loaded with stated dependencies ... OK
** checking whether the package can be unloaded cleanly ... OK
** checking whether the namespace can be loaded with stated dependencies ... OK
** checking whether the namespace can be unloaded cleanly ... OK
* checking dependencies in R code ... NOTE
'library' or 'require' calls in package code:
  'AnnotationDbi' 'biomaRt' 'energy' 'org.Hs.eg.db' 'org.Mm.eg.db'
  Please use :: or requireNamespace() instead.
  See section 'Suggested packages' in the 'Writing R Extensions' manual.
Package in Depends field not imported from: 'BiocStyle'
  These packages need to be imported from (in the NAMESPACE file)
  for when this namespace is loaded but not attached.
* checking S3 generic/method consistency ... OK
* checking replacement functions ... OK
* checking foreign function calls ... OK
* checking R code for possible problems ... NOTE
Found the following possibly unsafe calls:
File 'Pigengene/R/bn.calculation.R':
  assignInNamespace("supported.clusters", fixArgs, "bnlearn")

get.enriched.pw: no visible global function definition for 'enrichNCG'
one.step.pigengene: no visible binding for global variable
  'org.Hs.eg.db'
Undefined global functions or variables:
  enrichNCG org.Hs.eg.db
* checking Rd files ... OK
* checking Rd metadata ... OK
* checking Rd cross-references ... OK
* checking for missing documentation entries ... OK
* checking for code/documentation mismatches ... OK
* checking Rd \usage sections ... OK
* checking Rd contents ... OK
* checking for unstated dependencies in examples ... OK
* checking contents of 'data' directory ... OK
* checking data for non-ASCII characters ... OK
* checking data for ASCII and uncompressed saves ... OK
* checking files in 'vignettes' ... OK
* checking examples ...
** running examples for arch 'i386' ... OK
Examples with CPU (user + system) or elapsed time > 5s
                    user system elapsed
one.step.pigengene 44.11   1.52   46.61
Pigengene-package  42.59   1.50   45.13
module.heatmap     25.85   3.75   29.78
gene.mapping       16.28   0.50   19.32
learn.bn           11.03   0.06   11.99
compact.tree        8.94   0.12    9.11
make.decision.tree  8.80   0.21    9.01
combine.networks    8.13   0.02    8.17
wgcna.one.step      7.46   0.03    7.49
get.enriched.pw     0.96   0.11    5.24
** running examples for arch 'x64' ... OK
Examples with CPU (user + system) or elapsed time > 5s
                    user system elapsed
one.step.pigengene 53.48   1.67   56.13
Pigengene-package  49.85   1.20   51.94
module.heatmap     26.46   4.08   30.72
learn.bn           12.73   0.06   13.69
gene.mapping       11.34   0.36   14.22
combine.networks   10.04   0.01   10.11
compact.tree        9.50   0.11    9.61
make.decision.tree  9.32   0.14    9.46
wgcna.one.step      8.85   0.01    8.86
get.enriched.pw     0.86   0.13    5.21
* checking for unstated dependencies in vignettes ... OK
* checking package vignettes in 'inst/doc' ... OK
* checking running R code from vignettes ... SKIPPED
* checking re-building of vignette outputs ... SKIPPED
* checking PDF version of manual ... OK
* DONE

Status: 2 NOTEs
See
  'D:/biocbuild/bbs-3.14-bioc/meat/Pigengene.Rcheck/00check.log'
for details.



Installation output

Pigengene.Rcheck/00install.out

##############################################################################
##############################################################################
###
### Running command:
###
###   C:\cygwin\bin\curl.exe -O http://155.52.207.166/BBS/3.14/bioc/src/contrib/Pigengene_1.19.30.tar.gz && rm -rf Pigengene.buildbin-libdir && mkdir Pigengene.buildbin-libdir && D:\biocbuild\bbs-3.14-bioc\R\bin\R.exe CMD INSTALL --merge-multiarch --build --library=Pigengene.buildbin-libdir Pigengene_1.19.30.tar.gz && D:\biocbuild\bbs-3.14-bioc\R\bin\R.exe CMD INSTALL Pigengene_1.19.30.zip && rm Pigengene_1.19.30.tar.gz Pigengene_1.19.30.zip
###
##############################################################################
##############################################################################


  % Total    % Received % Xferd  Average Speed   Time    Time     Time  Current
                                 Dload  Upload   Total   Spent    Left  Speed

  0     0    0     0    0     0      0      0 --:--:-- --:--:-- --:--:--     0
  1 2472k    1 41637    0     0   265k      0  0:00:09 --:--:--  0:00:09  264k
100 2472k  100 2472k    0     0  5858k      0 --:--:-- --:--:-- --:--:-- 5858k

install for i386

* installing *source* package 'Pigengene' ...
** using staged installation
** R
** data
** inst
** byte-compile and prepare package for lazy loading
** help
*** installing help indices
  converting help for package 'Pigengene'
    finding HTML links ... done
    Pigengene-package                       html  
    aml                                     html  
    balance                                 html  
    calculate.beta                          html  
    check.nas                               html  
    check.pigengene.input                   html  
    combine.networks                        html  
    compact.tree                            html  
    compute.pigengene                       html  
    dcor.matrix                             html  
    draw.bn                                 html  
    eigengenes33                            html  
    gene.mapping                            html  
    get.enriched.pw                         html  
    get.fitted.leaf                         html  
    get.genes                               html  
    get.used.features                       html  
    learn.bn                                html  
    make.decision.tree                      html  
    mds                                     html  
    message.if                              html  
    module.heatmap                          html  
    one.step.pigengene                      html  
    pheatmap.type                           html  
    pigengene-class                         html  
    pigengene                               html  
REDIRECT:topic	 Previous alias or file overwritten by alias: D:/biocbuild/bbs-3.14-bioc/meat/Pigengene.buildbin-libdir/00LOCK-Pigengene/00new/Pigengene/help/pigengene.html
    plot.pigengene                          html  
    preds.at                                html  
    project.eigen                           html  
    pvalues.manova                          html  
    save.if                                 html  
    wgcna.one.step                          html  
** building package indices
** installing vignettes
** testing if installed package can be loaded from temporary location
** testing if installed package can be loaded from final location
** testing if installed package keeps a record of temporary installation path

install for x64

* installing *source* package 'Pigengene' ...
** testing if installed package can be loaded
* MD5 sums
packaged installation of 'Pigengene' as Pigengene_1.19.30.zip
* DONE (Pigengene)
* installing to library 'D:/biocbuild/bbs-3.14-bioc/R/library'
package 'Pigengene' successfully unpacked and MD5 sums checked

Tests output


Example timings

Pigengene.Rcheck/examples_i386/Pigengene-Ex.timings

nameusersystemelapsed
Pigengene-package42.59 1.5045.13
aml0.080.030.10
balance0.330.030.36
calculate.beta0.920.020.94
check.nas0.050.030.08
check.pigengene.input0.060.000.06
combine.networks8.130.028.17
compact.tree8.940.129.11
compute.pigengene4.370.424.84
dcor.matrix0.110.030.14
draw.bn000
eigengenes330.060.000.07
gene.mapping16.28 0.5019.32
get.enriched.pw0.960.115.24
get.fitted.leaf0.390.050.44
get.genes0.450.030.48
get.used.features0.420.000.42
learn.bn11.03 0.0611.99
make.decision.tree8.800.219.01
mds0.060.010.08
message.if000
module.heatmap25.85 3.7529.78
one.step.pigengene44.11 1.5246.61
pheatmap.type0.110.030.14
pigengene4.210.254.47
plot.pigengene4.470.424.89
preds.at0.570.020.58
project.eigen4.040.204.26
pvalues.manova0.030.000.04
save.if0.470.000.46
wgcna.one.step7.460.037.49

Pigengene.Rcheck/examples_x64/Pigengene-Ex.timings

nameusersystemelapsed
Pigengene-package49.85 1.2051.94
aml0.100.010.11
balance0.360.040.39
calculate.beta1.040.031.08
check.nas0.040.000.03
check.pigengene.input0.030.000.03
combine.networks10.04 0.0110.11
compact.tree9.500.119.61
compute.pigengene4.460.254.70
dcor.matrix0.120.020.14
draw.bn000
eigengenes330.050.010.06
gene.mapping11.34 0.3614.22
get.enriched.pw0.860.135.21
get.fitted.leaf0.350.030.39
get.genes0.320.050.37
get.used.features0.380.030.41
learn.bn12.73 0.0613.69
make.decision.tree9.320.149.46
mds0.040.030.08
message.if000
module.heatmap26.46 4.0830.72
one.step.pigengene53.48 1.6756.13
pheatmap.type0.070.050.13
pigengene4.340.304.64
plot.pigengene4.600.324.92
preds.at0.470.020.49
project.eigen3.960.214.18
pvalues.manova0.050.000.04
save.if0.560.000.57
wgcna.one.step8.850.018.86