Back to Multiple platform build/check report for BioC 3.14
ABCDEFGHIJKLMNO[P]QRSTUVWXYZ

This page was generated on 2021-09-25 12:05:41 -0400 (Sat, 25 Sep 2021).

BUILD BIN results for Pigengene on riesling1

To the developers/maintainers of the Pigengene package:
- Please allow up to 24 hours (and sometimes 48 hours) for your latest push to git@git.bioconductor.org:packages/Pigengene.git to
reflect on this report. See How and When does the builder pull? When will my changes propagate? here for more information.
- Make sure to use the following settings in order to reproduce any error or warning you see on this page.

raw results

Package 1384/2034HostnameOS / ArchINSTALLBUILDCHECKBUILD BIN
Pigengene 1.19.30  (landing page)
Habil Zare
Snapshot Date: 2021-09-24 14:50:08 -0400 (Fri, 24 Sep 2021)
git_url: https://git.bioconductor.org/packages/Pigengene
git_branch: master
git_last_commit: 5fabe13
git_last_commit_date: 2021-09-08 14:08:30 -0400 (Wed, 08 Sep 2021)
nebbiolo2Linux (Ubuntu 20.04.2 LTS) / x86_64  OK    OK    OK  UNNEEDED, same version is already published
riesling1Windows Server 2019 Standard / x64  OK    OK    OK    OK  UNNEEDED, same version is already published
merida1macOS 10.14.6 Mojave / x86_64  OK    OK    OK    OK  UNNEEDED, same version is already published

Summary

Package: Pigengene
Version: 1.19.30
Command: rm -rf Pigengene.buildbin-libdir && mkdir Pigengene.buildbin-libdir && D:\biocbuild\bbs-3.14-bioc\R\bin\R.exe CMD INSTALL --merge-multiarch --build --library=Pigengene.buildbin-libdir Pigengene_1.19.30.tar.gz
StartedAt: 2021-09-25 07:12:33 -0400 (Sat, 25 Sep 2021)
EndedAt: 2021-09-25 07:17:14 -0400 (Sat, 25 Sep 2021)
EllapsedTime: 281.2 seconds
RetCode: 0
Status:   OK  
PackageFile: Pigengene_1.19.30.zip
PackageFileSize: 3.001 MiB

Command output

##############################################################################
##############################################################################
###
### Running command:
###
###   rm -rf Pigengene.buildbin-libdir && mkdir Pigengene.buildbin-libdir && D:\biocbuild\bbs-3.14-bioc\R\bin\R.exe CMD INSTALL --merge-multiarch --build --library=Pigengene.buildbin-libdir Pigengene_1.19.30.tar.gz
###
##############################################################################
##############################################################################



install for i386

* installing *source* package 'Pigengene' ...
** using staged installation
** R
** data
** inst
** byte-compile and prepare package for lazy loading
** help
*** installing help indices
  converting help for package 'Pigengene'
    finding HTML links ... done
    Pigengene-package                       html  
    aml                                     html  
    balance                                 html  
    calculate.beta                          html  
    check.nas                               html  
    check.pigengene.input                   html  
    combine.networks                        html  
    compact.tree                            html  
    compute.pigengene                       html  
    dcor.matrix                             html  
    draw.bn                                 html  
    eigengenes33                            html  
    gene.mapping                            html  
    get.enriched.pw                         html  
    get.fitted.leaf                         html  
    get.genes                               html  
    get.used.features                       html  
    learn.bn                                html  
    make.decision.tree                      html  
    mds                                     html  
    message.if                              html  
    module.heatmap                          html  
    one.step.pigengene                      html  
    pheatmap.type                           html  
    pigengene-class                         html  
    pigengene                               html  
REDIRECT:topic	 Previous alias or file overwritten by alias: D:/biocbuild/bbs-3.14-bioc/meat/Pigengene.buildbin-libdir/00LOCK-Pigengene/00new/Pigengene/help/pigengene.html
    plot.pigengene                          html  
    preds.at                                html  
    project.eigen                           html  
    pvalues.manova                          html  
    save.if                                 html  
    wgcna.one.step                          html  
** building package indices
** installing vignettes
** testing if installed package can be loaded from temporary location
** testing if installed package can be loaded from final location
** testing if installed package keeps a record of temporary installation path

install for x64

* installing *source* package 'Pigengene' ...
** testing if installed package can be loaded
* MD5 sums
packaged installation of 'Pigengene' as Pigengene_1.19.30.zip
* DONE (Pigengene)