Index of /checkResults/devel/bioc-LATEST/Pigengene/raw-results/riesling1

[ICO]NameLast modifiedSizeDescription

[DIR]Parent Directory  -  
[TXT]buildbin-out.txt23-Oct-2021 01:04 3.1K 
[   ]buildbin-summary.dcf23-Oct-2021 01:04 549  
[TXT]buildsrc-out.txt23-Oct-2021 01:04 910  
[   ]buildsrc-summary.dcf23-Oct-2021 01:04 463  
[TXT]checksrc-out.txt23-Oct-2021 01:04 5.6K 
[   ]checksrc-summary.dcf23-Oct-2021 01:04 460  
[TXT]install-out.txt23-Oct-2021 01:04 3.8K 
[   ]install-summary.dcf23-Oct-2021 01:04 653