Index of /checkResults/devel/bioc-LATEST/Pigengene/raw-results/riesling1

[ICO]NameLast modifiedSizeDescription

[DIR]Parent Directory  -  
[TXT]buildbin-out.txt25-Sep-2021 01:05 3.1K 
[   ]buildbin-summary.dcf25-Sep-2021 01:05 545  
[TXT]buildsrc-out.txt25-Sep-2021 01:05 910  
[   ]buildsrc-summary.dcf25-Sep-2021 01:05 463  
[TXT]checksrc-out.txt25-Sep-2021 01:05 5.5K 
[   ]checksrc-summary.dcf25-Sep-2021 01:05 460  
[TXT]install-out.txt25-Sep-2021 01:05 3.8K 
[   ]install-summary.dcf25-Sep-2021 01:05 653