Index of /checkResults/devel/bioc-LATEST/Pigengene/raw-results/nebbiolo2

[ICO]NameLast modifiedSizeDescription

[DIR]Parent Directory  -  
[TXT]buildsrc-out.txt24-Oct-2021 03:06 878  
[   ]buildsrc-summary.dcf24-Oct-2021 03:06 426  
[TXT]checksrc-out.txt24-Oct-2021 03:06 4.6K 
[   ]checksrc-summary.dcf24-Oct-2021 03:06 434  
[TXT]install-out.txt24-Oct-2021 03:06 961  
[   ]install-summary.dcf24-Oct-2021 03:06 264