Index of /checkResults/devel/bioc-LATEST/Pigengene/raw-results/nebbiolo2

[ICO]NameLast modifiedSizeDescription

[DIR]Parent Directory  -  
[TXT]buildsrc-out.txt25-Sep-2021 01:04 878  
[   ]buildsrc-summary.dcf25-Sep-2021 01:04 426  
[TXT]checksrc-out.txt25-Sep-2021 01:04 4.6K 
[   ]checksrc-summary.dcf25-Sep-2021 01:04 434  
[TXT]install-out.txt25-Sep-2021 01:04 961  
[   ]install-summary.dcf25-Sep-2021 01:04 264