Index of /checkResults/devel/bioc-LATEST/Pigengene/raw-results/merida1

[ICO]NameLast modifiedSizeDescription

[DIR]Parent Directory  -  
[   ]install-summary.dcf24-Oct-2021 03:07 274  
[TXT]install-out.txt24-Oct-2021 03:07 1.0K 
[   ]checksrc-summary.dcf24-Oct-2021 03:07 454  
[TXT]checksrc-out.txt24-Oct-2021 03:07 4.7K 
[   ]buildsrc-summary.dcf24-Oct-2021 03:07 436  
[TXT]buildsrc-out.txt24-Oct-2021 03:07 888  
[   ]buildbin-summary.dcf24-Oct-2021 03:07 545  
[TXT]buildbin-out.txt24-Oct-2021 03:07 1.2K