Index of /checkResults/devel/bioc-LATEST/Pigengene/raw-results/merida1

[ICO]NameLast modifiedSizeDescription

[DIR]Parent Directory  -  
[TXT]buildbin-out.txt25-Sep-2021 01:05 1.2K 
[   ]buildbin-summary.dcf25-Sep-2021 01:05 545  
[TXT]buildsrc-out.txt25-Sep-2021 01:05 888  
[   ]buildsrc-summary.dcf25-Sep-2021 01:05 436  
[TXT]checksrc-out.txt25-Sep-2021 01:05 5.7K 
[   ]checksrc-summary.dcf25-Sep-2021 01:05 458  
[TXT]install-out.txt25-Sep-2021 01:05 1.0K 
[   ]install-summary.dcf25-Sep-2021 01:05 274