Back to Multiple platform build/check report for BioC 3.14
ABCDEFGHIJKLMNO[P]QRSTUVWXYZ

This page was generated on 2021-10-23 14:06:08 -0400 (Sat, 23 Oct 2021).

BUILD results for Pigengene on nebbiolo2

To the developers/maintainers of the Pigengene package:
- Please allow up to 24 hours (and sometimes 48 hours) for your latest push to git@git.bioconductor.org:packages/Pigengene.git to
reflect on this report. See How and When does the builder pull? When will my changes propagate? here for more information.
- Make sure to use the following settings in order to reproduce any error or warning you see on this page.

raw results

Package 1420/2083HostnameOS / ArchINSTALLBUILDCHECKBUILD BIN
Pigengene 1.19.52  (landing page)
Habil Zare
Snapshot Date: 2021-10-22 14:50:11 -0400 (Fri, 22 Oct 2021)
git_url: https://git.bioconductor.org/packages/Pigengene
git_branch: master
git_last_commit: a138f8e
git_last_commit_date: 2021-10-19 12:19:43 -0400 (Tue, 19 Oct 2021)
nebbiolo2Linux (Ubuntu 20.04.2 LTS) / x86_64  OK    OK    OK  UNNEEDED, same version is already published
riesling1Windows Server 2019 Standard / x64  OK    OK    OK    OK  UNNEEDED, same version is already published
merida1macOS 10.14.6 Mojave / x86_64  OK    OK    OK    OK  YES

Summary

Package: Pigengene
Version: 1.19.52
Command: /home/biocbuild/bbs-3.14-bioc/R/bin/R CMD build --keep-empty-dirs --no-resave-data Pigengene
StartedAt: 2021-10-22 18:08:27 -0400 (Fri, 22 Oct 2021)
EndedAt: 2021-10-22 18:12:59 -0400 (Fri, 22 Oct 2021)
EllapsedTime: 272.3 seconds
RetCode: 0
Status:   OK  
PackageFile: Pigengene_1.19.52.tar.gz
PackageFileSize: 2.681 MiB

Command output

##############################################################################
##############################################################################
###
### Running command:
###
###   /home/biocbuild/bbs-3.14-bioc/R/bin/R CMD build --keep-empty-dirs --no-resave-data Pigengene
###
##############################################################################
##############################################################################


* checking for file ‘Pigengene/DESCRIPTION’ ... OK
* preparing ‘Pigengene’:
* checking DESCRIPTION meta-information ... OK
* installing the package to build vignettes
* creating vignettes ... OK
* checking for LF line-endings in source and make files and shell scripts
* checking for empty or unneeded directories
* looking to see if a ‘data/datalist’ file should be added
* building ‘Pigengene_1.19.52.tar.gz’