Back to Multiple platform build/check report for BioC 3.14
ABCDEFGHIJKLMNO[P]QRSTUVWXYZ

This page was generated on 2021-07-24 12:06:41 -0400 (Sat, 24 Jul 2021).

BUILD results for Pigengene on merida1

To the developers/maintainers of the Pigengene package:
- Please allow up to 24 hours (and sometimes 48 hours) for your latest push to git@git.bioconductor.org:packages/Pigengene.git to
reflect on this report. See How and When does the builder pull? When will my changes propagate? here for more information.
- Make sure to use the following settings in order to reproduce any error or warning you see on this page.

raw results

Package 1371/2008HostnameOS / ArchINSTALLBUILDCHECKBUILD BIN
Pigengene 1.19.10  (landing page)
Habil Zare
Snapshot Date: 2021-07-23 14:50:08 -0400 (Fri, 23 Jul 2021)
URL: https://git.bioconductor.org/packages/Pigengene
Branch: master
Last Commit: 5448a04
Last Changed Date: 2021-07-22 15:18:12 -0400 (Thu, 22 Jul 2021)
nebbiolo2Linux (Ubuntu 20.04.2 LTS) / x86_64  OK    OK    OK  UNNEEDED, same version is already published
riesling1Windows Server 2019 Standard / x64  OK    OK    OK    OK  NO, package depends on 'Rgraphviz' which is not available
merida1macOS 10.14.6 Mojave / x86_64  OK    OK    OK    OK  UNNEEDED, same version is already published

Summary

Package: Pigengene
Version: 1.19.10
Command: /Library/Frameworks/R.framework/Resources/bin/R CMD build --keep-empty-dirs --no-resave-data Pigengene
StartedAt: 2021-07-23 21:19:49 -0400 (Fri, 23 Jul 2021)
EndedAt: 2021-07-23 21:23:20 -0400 (Fri, 23 Jul 2021)
EllapsedTime: 210.8 seconds
RetCode: 0
Status:   OK  
PackageFile: Pigengene_1.19.10.tar.gz
PackageFileSize: 2.672 MiB

Command output

##############################################################################
##############################################################################
###
### Running command:
###
###   /Library/Frameworks/R.framework/Resources/bin/R CMD build --keep-empty-dirs --no-resave-data Pigengene
###
##############################################################################
##############################################################################


* checking for file ‘Pigengene/DESCRIPTION’ ... OK
* preparing ‘Pigengene’:
* checking DESCRIPTION meta-information ... OK
* installing the package to build vignettes
* creating vignettes ... OK
* checking for LF line-endings in source and make files and shell scripts
* checking for empty or unneeded directories
* looking to see if a ‘data/datalist’ file should be added
* building ‘Pigengene_1.19.10.tar.gz’