Back to Multiple platform build/check report for BioC 3.14
ABCDEFGHIJKLMNO[P]QRSTUVWXYZ

This page was generated on 2021-06-18 12:04:15 -0400 (Fri, 18 Jun 2021).

All results for package Pigengene

To the developers/maintainers of the Pigengene package:
- Please allow up to 24 hours (and sometimes 48 hours) for your latest push to git@git.bioconductor.org:packages/Pigengene.git to
reflect on this report. See How and When does the builder pull? When will my changes propagate? here for more information.
- Make sure to use the following settings in order to reproduce any error or warning you see on this page.

raw results

Package 1360/1993HostnameOS / ArchINSTALLBUILDCHECKBUILD BIN
Pigengene 1.19.8  (landing page)
Habil Zare
Snapshot Date: 2021-06-17 14:50:06 -0400 (Thu, 17 Jun 2021)
URL: https://git.bioconductor.org/packages/Pigengene
Branch: master
Last Commit: fd79a64
Last Changed Date: 2021-05-26 00:43:15 -0400 (Wed, 26 May 2021)
nebbiolo2Linux (Ubuntu 20.04.2 LTS) / x86_64  OK    OK    WARNINGS  UNNEEDED, same version is already published
riesling1Windows Server 2019 Standard / x64  OK    OK    WARNINGS    OK  NO, package depends on 'Rgraphviz' which is not available
merida1macOS 10.14.6 Mojave / x86_64  OK    OK    WARNINGS    OK  UNNEEDED, same version is already published