Back to Multiple platform build/check report for BioC 3.14
ABCDEFGHIJKLMNO[P]QRSTUVWXYZ

This page was generated on 2021-06-18 12:05:03 -0400 (Fri, 18 Jun 2021).

INSTALL results for PhenStat on riesling1

To the developers/maintainers of the PhenStat package:
- Please allow up to 24 hours (and sometimes 48 hours) for your latest push to git@git.bioconductor.org:packages/PhenStat.git to
reflect on this report. See How and When does the builder pull? When will my changes propagate? here for more information.
- Make sure to use the following settings in order to reproduce any error or warning you see on this page.

raw results

Package 1349/1993HostnameOS / ArchINSTALLBUILDCHECKBUILD BIN
PhenStat 2.29.0  (landing page)
Hamed Haselimashhadi
Snapshot Date: 2021-06-17 14:50:06 -0400 (Thu, 17 Jun 2021)
URL: https://git.bioconductor.org/packages/PhenStat
Branch: master
Last Commit: 580f20e
Last Changed Date: 2021-05-19 12:02:09 -0400 (Wed, 19 May 2021)
nebbiolo2Linux (Ubuntu 20.04.2 LTS) / x86_64  OK    OK    OK  UNNEEDED, same version is already published
riesling1Windows Server 2019 Standard / x64  OK    OK    OK    OK  UNNEEDED, same version is already published
merida1macOS 10.14.6 Mojave / x86_64  OK    OK    OK    OK  UNNEEDED, same version is already published

Summary

Package: PhenStat
Version: 2.29.0
Command: C:\cygwin\bin\curl.exe -O http://155.52.207.166/BBS/3.14/bioc/src/contrib/PhenStat_2.29.0.tar.gz && rm -rf PhenStat.buildbin-libdir && mkdir PhenStat.buildbin-libdir && D:\biocbuild\bbs-3.14-bioc\R\bin\R.exe CMD INSTALL --merge-multiarch --build --library=PhenStat.buildbin-libdir PhenStat_2.29.0.tar.gz && D:\biocbuild\bbs-3.14-bioc\R\bin\R.exe CMD INSTALL PhenStat_2.29.0.zip && rm PhenStat_2.29.0.tar.gz PhenStat_2.29.0.zip
StartedAt: 2021-06-17 18:08:51 -0400 (Thu, 17 Jun 2021)
EndedAt: 2021-06-17 18:11:19 -0400 (Thu, 17 Jun 2021)
EllapsedTime: 148.3 seconds
RetCode: 0
Status:   OK  

Command output

##############################################################################
##############################################################################
###
### Running command:
###
###   C:\cygwin\bin\curl.exe -O http://155.52.207.166/BBS/3.14/bioc/src/contrib/PhenStat_2.29.0.tar.gz && rm -rf PhenStat.buildbin-libdir && mkdir PhenStat.buildbin-libdir && D:\biocbuild\bbs-3.14-bioc\R\bin\R.exe CMD INSTALL --merge-multiarch --build --library=PhenStat.buildbin-libdir PhenStat_2.29.0.tar.gz && D:\biocbuild\bbs-3.14-bioc\R\bin\R.exe CMD INSTALL PhenStat_2.29.0.zip && rm PhenStat_2.29.0.tar.gz PhenStat_2.29.0.zip
###
##############################################################################
##############################################################################


  % Total    % Received % Xferd  Average Speed   Time    Time     Time  Current
                                 Dload  Upload   Total   Spent    Left  Speed

  0     0    0     0    0     0      0      0 --:--:-- --:--:-- --:--:--     0
 54  734k   54  398k    0     0  2387k      0 --:--:-- --:--:-- --:--:-- 2372k
100  734k  100  734k    0     0  3689k      0 --:--:-- --:--:-- --:--:-- 3689k

install for i386

* installing *source* package 'PhenStat' ...
** using staged installation
** R
** inst
** byte-compile and prepare package for lazy loading
** help
*** installing help indices
  converting help for package 'PhenStat'
    finding HTML links ... done
    FisherExactTest                         html  
    JSONOutput                              html  
    LRDataset                               html  
    LargeDataObject-class                   html  
    PhenList-class                          html  
    PhenList                                html  
    PhenStatReport                          html  
    PhenTestResult-class                    html  
    PhenTestResult                          html  
    RRTest                                  html  
    TFDataset                               html  
    analysedDataset                         html  
    analysedDatasetPhenList                 html  
    analysedSubset                          html  
    analysisResults                         html  
    batchIn                                 html  
    boxplotResidualBatch                    html  
    boxplotSexGenotype                      html  
    boxplotSexGenotypeBatch                 html  
    boxplotSexGenotypeBatchAdjusted         html  
    boxplotSexGenotypeResult                html  
    boxplotSexGenotypeWeightBatchAdjusted   html  
    categoricalBarplot                      html  
    checkDataset                            html  
    classificationTag                       html  
    columnChecks                            html  
    columnLevels                            html  
    comparison                              html  
    dataset                                 html  
    determiningLambda                       html  
    dim                                     html  
    finalLRModel                            html  
    finalModel                              html  
    finalTFModel                            html  
    formulaDeterminingLambda                html  
    generateGraphs                          html  
    getColumn                               html  
    getColumnBatchAdjusted                  html  
    getColumnView                           html  
    getColumnWeightBatchAdjusted            html  
    getCountMatrices                        html  
    getDataset                              html  
    getGenotypeEffect                       html  
    getMatrix                               html  
    getPercentageMatrix                     html  
    getStat                                 html  
    getVariable                             html  
    getVariables                            html  
    hemiGenotype                            html  
    htest-class                             html  
    htestPhenStat-class                     html  
    matrixCount                             html  
    method                                  html  
    methodText                              html  
    modelFormula                            html  
    modelFormulaLR                          html  
    multipleBatches                         html  
    noSexes                                 html  
    parameters                              html  
    parserOutputSummary                     html  
    parserOutputSummaryLR                   html  
    parserOutputTFSummary                   html  
    performReverseTransformation            html  
    performTransformation                   html  
    plot.PhenList                           html  
    plot.PhenTestResult                     html  
    plotResidualPredicted                   html  
    printLROutput                           html  
    printTabStyle                           html  
    pvalue                                  html  
    qqplotGenotype                          html  
    qqplotRandomEffects                     html  
    qqplotRotatedResiduals                  html  
    recommendMethod                         html  
    refGenotype                             html  
    scatterplotGenotypeWeight               html  
    scatterplotGenotypeWeightResult         html  
    scatterplotSexGenotypeBatch             html  
    scatterplotSexGenotypeBatchResult       html  
    setBatch                                html  
    setGenotype                             html  
    setMissingValue                         html  
    setSex                                  html  
    setWeight                               html  
    startLRModel                            html  
    startModel                              html  
    startTFModel                            html  
    subsetText                              html  
    summaryOutput                           html  
    summaryPhenListResult                   html  
    testDataset                             html  
    testFinalLRModel                        html  
    testFinalModel                          html  
    testGenotype                            html  
    transformation                          html  
    transformationJSON                      html  
    transformationText                      html  
    vectorOutput                            html  
    vectorOutputMatrices                    html  
    weightIn                                html  
** building package indices
** installing vignettes
** testing if installed package can be loaded from temporary location
** testing if installed package can be loaded from final location
** testing if installed package keeps a record of temporary installation path

install for x64

* installing *source* package 'PhenStat' ...
** testing if installed package can be loaded
* MD5 sums
packaged installation of 'PhenStat' as PhenStat_2.29.0.zip
* DONE (PhenStat)
* installing to library 'D:/biocbuild/bbs-3.14-bioc/R/library'
package 'PhenStat' successfully unpacked and MD5 sums checked