Back to Multiple platform build/check report for BioC 3.14
ABCDEFGHIJKLMNO[P]QRSTUVWXYZ

This page was generated on 2021-10-22 12:04:37 -0400 (Fri, 22 Oct 2021).

INSTALL results for PeacoQC on riesling1

To the developers/maintainers of the PeacoQC package:
- Please allow up to 24 hours (and sometimes 48 hours) for your latest push to git@git.bioconductor.org:packages/PeacoQC.git to
reflect on this report. See How and When does the builder pull? When will my changes propagate? here for more information.
- Make sure to use the following settings in order to reproduce any error or warning you see on this page.

raw results

Package 1386/2075HostnameOS / ArchINSTALLBUILDCHECKBUILD BIN
PeacoQC 1.3.3  (landing page)
Annelies Emmaneel
Snapshot Date: 2021-10-21 14:50:08 -0400 (Thu, 21 Oct 2021)
git_url: https://git.bioconductor.org/packages/PeacoQC
git_branch: master
git_last_commit: 34dfeb5
git_last_commit_date: 2021-08-23 10:24:13 -0400 (Mon, 23 Aug 2021)
nebbiolo2Linux (Ubuntu 20.04.2 LTS) / x86_64  OK    OK    OK  UNNEEDED, same version is already published
riesling1Windows Server 2019 Standard / x64  OK    OK    OK    OK  UNNEEDED, same version is already published
merida1macOS 10.14.6 Mojave / x86_64  OK    OK    OK    NA  

Summary

Package: PeacoQC
Version: 1.3.3
Command: C:\cygwin\bin\curl.exe -O http://155.52.207.166/BBS/3.14/bioc/src/contrib/PeacoQC_1.3.3.tar.gz && rm -rf PeacoQC.buildbin-libdir && mkdir PeacoQC.buildbin-libdir && D:\biocbuild\bbs-3.14-bioc\R\bin\R.exe CMD INSTALL --merge-multiarch --build --library=PeacoQC.buildbin-libdir PeacoQC_1.3.3.tar.gz && D:\biocbuild\bbs-3.14-bioc\R\bin\R.exe CMD INSTALL PeacoQC_1.3.3.zip && rm PeacoQC_1.3.3.tar.gz PeacoQC_1.3.3.zip
StartedAt: 2021-10-21 17:51:09 -0400 (Thu, 21 Oct 2021)
EndedAt: 2021-10-21 17:54:11 -0400 (Thu, 21 Oct 2021)
EllapsedTime: 181.9 seconds
RetCode: 0
Status:   OK  

Command output

##############################################################################
##############################################################################
###
### Running command:
###
###   C:\cygwin\bin\curl.exe -O http://155.52.207.166/BBS/3.14/bioc/src/contrib/PeacoQC_1.3.3.tar.gz && rm -rf PeacoQC.buildbin-libdir && mkdir PeacoQC.buildbin-libdir && D:\biocbuild\bbs-3.14-bioc\R\bin\R.exe CMD INSTALL --merge-multiarch --build --library=PeacoQC.buildbin-libdir PeacoQC_1.3.3.tar.gz && D:\biocbuild\bbs-3.14-bioc\R\bin\R.exe CMD INSTALL PeacoQC_1.3.3.zip && rm PeacoQC_1.3.3.tar.gz PeacoQC_1.3.3.zip
###
##############################################################################
##############################################################################


  % Total    % Received % Xferd  Average Speed   Time    Time     Time  Current
                                 Dload  Upload   Total   Spent    Left  Speed

  0     0    0     0    0     0      0      0 --:--:-- --:--:-- --:--:--     0
 54 1412k   54  772k    0     0  1210k      0  0:00:01 --:--:--  0:00:01 1209k
100 1412k  100 1412k    0     0  1432k      0 --:--:-- --:--:-- --:--:-- 1432k

install for i386

* installing *source* package 'PeacoQC' ...
** using staged installation
** R
** inst
** byte-compile and prepare package for lazy loading
** help
*** installing help indices
  converting help for package 'PeacoQC'
    finding HTML links ... done
    PeacoQC                                 html  
    PeacoQCHeatmap                          html  
    PlotPeacoQC                             html  
    RemoveDoublets                          html  
    RemoveMargins                           html  
** building package indices
** installing vignettes
** testing if installed package can be loaded from temporary location
** testing if installed package can be loaded from final location
** testing if installed package keeps a record of temporary installation path

install for x64

* installing *source* package 'PeacoQC' ...
** testing if installed package can be loaded
* MD5 sums
packaged installation of 'PeacoQC' as PeacoQC_1.3.3.zip
* DONE (PeacoQC)
* installing to library 'D:/biocbuild/bbs-3.14-bioc/R/library'
package 'PeacoQC' successfully unpacked and MD5 sums checked