Back to Multiple platform build/check report for BioC 3.14
ABCDEFGHIJKLMNO[P]QRSTUVWXYZ

This page was generated on 2021-10-22 12:04:37 -0400 (Fri, 22 Oct 2021).

BUILD results for PeacoQC on riesling1

To the developers/maintainers of the PeacoQC package:
- Please allow up to 24 hours (and sometimes 48 hours) for your latest push to git@git.bioconductor.org:packages/PeacoQC.git to
reflect on this report. See How and When does the builder pull? When will my changes propagate? here for more information.
- Make sure to use the following settings in order to reproduce any error or warning you see on this page.

raw results

Package 1386/2075HostnameOS / ArchINSTALLBUILDCHECKBUILD BIN
PeacoQC 1.3.3  (landing page)
Annelies Emmaneel
Snapshot Date: 2021-10-21 14:50:08 -0400 (Thu, 21 Oct 2021)
git_url: https://git.bioconductor.org/packages/PeacoQC
git_branch: master
git_last_commit: 34dfeb5
git_last_commit_date: 2021-08-23 10:24:13 -0400 (Mon, 23 Aug 2021)
nebbiolo2Linux (Ubuntu 20.04.2 LTS) / x86_64  OK    OK    OK  UNNEEDED, same version is already published
riesling1Windows Server 2019 Standard / x64  OK    OK    OK    OK  UNNEEDED, same version is already published
merida1macOS 10.14.6 Mojave / x86_64  OK    OK    OK    NA  

Summary

Package: PeacoQC
Version: 1.3.3
Command: chmod a+r PeacoQC -R && D:\biocbuild\bbs-3.14-bioc\R\bin\R.exe CMD build --keep-empty-dirs --no-resave-data PeacoQC
StartedAt: 2021-10-21 22:27:11 -0400 (Thu, 21 Oct 2021)
EndedAt: 2021-10-21 22:30:42 -0400 (Thu, 21 Oct 2021)
EllapsedTime: 211.1 seconds
RetCode: 0
Status:   OK  
PackageFile: PeacoQC_1.3.3.tar.gz
PackageFileSize: 1.939 MiB

Command output

##############################################################################
##############################################################################
###
### Running command:
###
###   chmod a+r PeacoQC -R && D:\biocbuild\bbs-3.14-bioc\R\bin\R.exe CMD build --keep-empty-dirs --no-resave-data PeacoQC
###
##############################################################################
##############################################################################


* checking for file 'PeacoQC/DESCRIPTION' ... OK
* preparing 'PeacoQC':
* checking DESCRIPTION meta-information ... OK
* installing the package to build vignettes
* creating vignettes ... OK
* checking for LF line-endings in source and make files and shell scripts
* checking for empty or unneeded directories
Omitted 'LazyData' from DESCRIPTION
* building 'PeacoQC_1.3.3.tar.gz'