Back to Multiple platform build/check report for BioC 3.20:   simplified   long
ABCDEFGHIJKLMNO[P]QRSTUVWXYZ

This page was generated on 2024-06-14 12:02 -0400 (Fri, 14 Jun 2024).

HostnameOSArch (*)R versionInstalled pkgs
nebbiolo2Linux (Ubuntu 22.04.3 LTS)x86_644.4.0 RC (2024-04-16 r86468) -- "Puppy Cup" 4679
lconwaymacOS 12.7.1 Montereyx86_644.4.1 RC (2024-06-06 r86719) -- "Race for Your Life" 4353
Click on any hostname to see more info about the system (e.g. compilers)      (*) as reported by 'uname -p', except on Windows and Mac OS X

Package 1537/2239HostnameOS / ArchINSTALLBUILDCHECKBUILD BIN
PLSDAbatch 1.1.0  (landing page)
Yiwen (Eva) Wang
Snapshot Date: 2024-06-13 14:00 -0400 (Thu, 13 Jun 2024)
git_url: https://git.bioconductor.org/packages/PLSDAbatch
git_branch: devel
git_last_commit: cea9d4e
git_last_commit_date: 2024-04-30 11:53:17 -0400 (Tue, 30 Apr 2024)
nebbiolo2Linux (Ubuntu 22.04.3 LTS) / x86_64  OK    OK    OK  UNNEEDED, same version is already published
lconwaymacOS 12.7.1 Monterey / x86_64  OK    OK    OK    OK  UNNEEDED, same version is already published


BUILD results for PLSDAbatch on nebbiolo2

To the developers/maintainers of the PLSDAbatch package:
- Allow up to 24 hours (and sometimes 48 hours) for your latest push to git@git.bioconductor.org:packages/PLSDAbatch.git to reflect on this report. See Troubleshooting Build Report for more information.
- Use the following Renviron settings to reproduce errors and warnings.
- If 'R CMD check' started to fail recently on the Linux builder(s) over a missing dependency, add the missing dependency to 'Suggests:' in your DESCRIPTION file. See Renviron.bioc for more information.

raw results


Summary

Package: PLSDAbatch
Version: 1.1.0
Command: /home/biocbuild/bbs-3.20-bioc/R/bin/R CMD build --keep-empty-dirs --no-resave-data --md5 PLSDAbatch
StartedAt: 2024-06-13 19:29:57 -0400 (Thu, 13 Jun 2024)
EndedAt: 2024-06-13 19:31:13 -0400 (Thu, 13 Jun 2024)
EllapsedTime: 76.1 seconds
RetCode: 0
Status:   OK  
PackageFile: PLSDAbatch_1.1.0.tar.gz
PackageFileSize: 1.564 MiB

Command output

##############################################################################
##############################################################################
###
### Running command:
###
###   /home/biocbuild/bbs-3.20-bioc/R/bin/R CMD build --keep-empty-dirs --no-resave-data --md5 PLSDAbatch
###
##############################################################################
##############################################################################


* checking for file ‘PLSDAbatch/DESCRIPTION’ ... OK
* preparing ‘PLSDAbatch’:
* checking DESCRIPTION meta-information ...Warning in person1(given = given[[i]], family = family[[i]], middle = middle[[i]],  :
  It is recommended to use ‘given’ instead of ‘middle’.
 OK
* installing the package to process help pages
Loading required namespace: PLSDAbatch
* saving partial Rd database
* creating vignettes ... OK
Warning in person1(given = given[[i]], family = family[[i]], middle = middle[[i]],  :
  It is recommended to use ‘given’ instead of ‘middle’.
* checking for LF line-endings in source and make files and shell scripts
* checking for empty or unneeded directories
* looking to see if a ‘data/datalist’ file should be added
* adding MD5 file
* building ‘PLSDAbatch_1.1.0.tar.gz’