Back to Multiple platform build/check report for BioC 3.14
ABCDEFGHIJKLMNO[P]QRSTUVWXYZ

This page was generated on 2021-06-21 12:05:44 -0400 (Mon, 21 Jun 2021).

CHECK results for PFP on riesling1

To the developers/maintainers of the PFP package:
- Please allow up to 24 hours (and sometimes 48 hours) for your latest push to git@git.bioconductor.org:packages/PFP.git to
reflect on this report. See How and When does the builder pull? When will my changes propagate? here for more information.
- Make sure to use the following settings in order to reproduce any error or warning you see on this page.

raw results

Package 1341/1993HostnameOS / ArchINSTALLBUILDCHECKBUILD BIN
PFP 1.1.0  (landing page)
XC Zhang
Snapshot Date: 2021-06-20 14:50:05 -0400 (Sun, 20 Jun 2021)
URL: https://git.bioconductor.org/packages/PFP
Branch: master
Last Commit: a3e8d80
Last Changed Date: 2021-05-19 12:58:46 -0400 (Wed, 19 May 2021)
nebbiolo2Linux (Ubuntu 20.04.2 LTS) / x86_64  OK    OK    OK  UNNEEDED, same version is already published
riesling1Windows Server 2019 Standard / x64  OK    OK    OK    OK  NO, package depends on 'KEGGgraph' which is not available
merida1macOS 10.14.6 Mojave / x86_64  OK    OK    OK    OK  UNNEEDED, same version is already published

Summary

Package: PFP
Version: 1.1.0
Command: D:\biocbuild\bbs-3.14-bioc\R\bin\R.exe CMD check --force-multiarch --install=check:PFP.install-out.txt --library=D:\biocbuild\bbs-3.14-bioc\R\library --no-vignettes --timings PFP_1.1.0.tar.gz
StartedAt: 2021-06-21 01:34:58 -0400 (Mon, 21 Jun 2021)
EndedAt: 2021-06-21 01:38:40 -0400 (Mon, 21 Jun 2021)
EllapsedTime: 221.9 seconds
RetCode: 0
Status:   OK  
CheckDir: PFP.Rcheck
Warnings: 0

Command output

##############################################################################
##############################################################################
###
### Running command:
###
###   D:\biocbuild\bbs-3.14-bioc\R\bin\R.exe CMD check --force-multiarch --install=check:PFP.install-out.txt --library=D:\biocbuild\bbs-3.14-bioc\R\library --no-vignettes --timings PFP_1.1.0.tar.gz
###
##############################################################################
##############################################################################


* using log directory 'D:/biocbuild/bbs-3.14-bioc/meat/PFP.Rcheck'
* using R version 4.1.0 (2021-05-18)
* using platform: x86_64-w64-mingw32 (64-bit)
* using session charset: ISO8859-1
* using option '--no-vignettes'
* checking for file 'PFP/DESCRIPTION' ... OK
* checking extension type ... Package
* this is package 'PFP' version '1.1.0'
* package encoding: UTF-8
* checking package namespace information ... OK
* checking package dependencies ... OK
* checking if this is a source package ... OK
* checking if there is a namespace ... OK
* checking for hidden files and directories ... OK
* checking for portable file names ... OK
* checking whether package 'PFP' can be installed ... OK
* checking installed package size ... OK
* checking package directory ... OK
* checking 'build' directory ... OK
* checking DESCRIPTION meta-information ... OK
* checking top-level files ... OK
* checking for left-over files ... OK
* checking index information ... OK
* checking package subdirectories ... OK
* checking R files for non-ASCII characters ... OK
* checking R files for syntax errors ... OK
* loading checks for arch 'i386'
** checking whether the package can be loaded ... OK
** checking whether the package can be loaded with stated dependencies ... OK
** checking whether the package can be unloaded cleanly ... OK
** checking whether the namespace can be loaded with stated dependencies ... OK
** checking whether the namespace can be unloaded cleanly ... OK
* loading checks for arch 'x64'
** checking whether the package can be loaded ... OK
** checking whether the package can be loaded with stated dependencies ... OK
** checking whether the package can be unloaded cleanly ... OK
** checking whether the namespace can be loaded with stated dependencies ... OK
** checking whether the namespace can be unloaded cleanly ... OK
* checking dependencies in R code ... OK
* checking S3 generic/method consistency ... OK
* checking replacement functions ... OK
* checking foreign function calls ... OK
* checking R code for possible problems ... OK
* checking Rd files ... OK
* checking Rd metadata ... OK
* checking Rd cross-references ... OK
* checking for missing documentation entries ... OK
* checking for code/documentation mismatches ... OK
* checking Rd \usage sections ... OK
* checking Rd contents ... OK
* checking for unstated dependencies in examples ... OK
* checking contents of 'data' directory ... OK
* checking data for non-ASCII characters ... OK
* checking data for ASCII and uncompressed saves ... OK
* checking files in 'vignettes' ... OK
* checking examples ...
** running examples for arch 'i386' ... OK
Examples with CPU (user + system) or elapsed time > 5s
               user system elapsed
calc_PFP_score 7.43      0    7.44
** running examples for arch 'x64' ... OK
Examples with CPU (user + system) or elapsed time > 5s
               user system elapsed
calc_PFP_score 7.15   0.07    7.22
* checking for unstated dependencies in 'tests' ... OK
* checking tests ...
** running tests for arch 'i386' ...
  Running 'testthat.R'
 OK
** running tests for arch 'x64' ...
  Running 'testthat.R'
 OK
* checking for unstated dependencies in vignettes ... OK
* checking package vignettes in 'inst/doc' ... OK
* checking running R code from vignettes ... SKIPPED
* checking re-building of vignette outputs ... SKIPPED
* checking PDF version of manual ... OK
* DONE

Status: OK


Installation output

PFP.Rcheck/00install.out

##############################################################################
##############################################################################
###
### Running command:
###
###   C:\cygwin\bin\curl.exe -O http://155.52.207.166/BBS/3.14/bioc/src/contrib/PFP_1.1.0.tar.gz && rm -rf PFP.buildbin-libdir && mkdir PFP.buildbin-libdir && D:\biocbuild\bbs-3.14-bioc\R\bin\R.exe CMD INSTALL --merge-multiarch --build --library=PFP.buildbin-libdir PFP_1.1.0.tar.gz && D:\biocbuild\bbs-3.14-bioc\R\bin\R.exe CMD INSTALL PFP_1.1.0.zip && rm PFP_1.1.0.tar.gz PFP_1.1.0.zip
###
##############################################################################
##############################################################################


  % Total    % Received % Xferd  Average Speed   Time    Time     Time  Current
                                 Dload  Upload   Total   Spent    Left  Speed

  0     0    0     0    0     0      0      0 --:--:-- --:--:-- --:--:--     0
100 1193k  100 1193k    0     0  4216k      0 --:--:-- --:--:-- --:--:-- 4216k

install for i386

* installing *source* package 'PFP' ...
** using staged installation
** R
** data
** byte-compile and prepare package for lazy loading
** help
*** installing help indices
  converting help for package 'PFP'
    finding HTML links ... done
    PFP-class                               html  
    PFP                                     html  
    PFPRefnet-class                         html  
    PFPRefnet_hsa                           html  
    PFPRefnet_mmu                           html  
    PFP_score-methods                       html  
    PFP_test1                               html  
    PFP_test2                               html  
    calc_PFP_score                          html  
    data_std                                html  
    gene_list_hsa                           html  
    genes_score-methods                     html  
    get_PFPRefnet                           html  
    get_asso_net                            html  
    get_bg_related_kegg                     html  
    get_exp_cor_edges                       html  
    get_pathway_info                        html  
    group-methods                           html  
    kegg_download                           html  
    net_info-methods                        html  
    net_names-methods                       html  
    network-methods                         html  
    pathway_info                            html  
    pathway_info_hsa                        html  
    pathways_score-methods                  html  
    plot_PFP-methods                        html  
    plot_PFPlist                            html  
    rank_PFP-methods                        html  
    refnet_info-methods                     html  
    refnet_names-methods                    html  
    result_PFP-methods                      html  
    show_PFP-methods                        html  
    show_net-methods                        html  
    stats_test-methods                      html  
    sub_PFP-methods                         html  
    subnet-methods                          html  
    trans_edges_id                          html  
    trans_graph2PFPRefnet                   html  
    finding level-2 HTML links ... done

    trans_xml2graph                         html  
** building package indices
** installing vignettes
** testing if installed package can be loaded from temporary location
** testing if installed package can be loaded from final location
** testing if installed package keeps a record of temporary installation path

install for x64

* installing *source* package 'PFP' ...
** testing if installed package can be loaded
* MD5 sums
packaged installation of 'PFP' as PFP_1.1.0.zip
* DONE (PFP)
* installing to library 'D:/biocbuild/bbs-3.14-bioc/R/library'
package 'PFP' successfully unpacked and MD5 sums checked

Tests output

PFP.Rcheck/tests_i386/testthat.Rout


R version 4.1.0 (2021-05-18) -- "Camp Pontanezen"
Copyright (C) 2021 The R Foundation for Statistical Computing
Platform: i386-w64-mingw32/i386 (32-bit)

R is free software and comes with ABSOLUTELY NO WARRANTY.
You are welcome to redistribute it under certain conditions.
Type 'license()' or 'licence()' for distribution details.

R is a collaborative project with many contributors.
Type 'contributors()' for more information and
'citation()' on how to cite R or R packages in publications.

Type 'demo()' for some demos, 'help()' for on-line help, or
'help.start()' for an HTML browser interface to help.
Type 'q()' to quit R.

> library(testthat)
> library(PFP)

> test_check('PFP')
[ FAIL 0 | WARN 6 | SKIP 0 | PASS 31 ]
> 
> proc.time()
   user  system elapsed 
   5.31    0.21    5.51 

PFP.Rcheck/tests_x64/testthat.Rout


R version 4.1.0 (2021-05-18) -- "Camp Pontanezen"
Copyright (C) 2021 The R Foundation for Statistical Computing
Platform: x86_64-w64-mingw32/x64 (64-bit)

R is free software and comes with ABSOLUTELY NO WARRANTY.
You are welcome to redistribute it under certain conditions.
Type 'license()' or 'licence()' for distribution details.

R is a collaborative project with many contributors.
Type 'contributors()' for more information and
'citation()' on how to cite R or R packages in publications.

Type 'demo()' for some demos, 'help()' for on-line help, or
'help.start()' for an HTML browser interface to help.
Type 'q()' to quit R.

> library(testthat)
> library(PFP)

> test_check('PFP')
[ FAIL 0 | WARN 6 | SKIP 0 | PASS 31 ]
> 
> proc.time()
   user  system elapsed 
   5.50    0.40    5.89 

Example timings

PFP.Rcheck/examples_i386/PFP-Ex.timings

nameusersystemelapsed
PFP-class0.100.020.11
PFPRefnet-class0.540.040.59
PFPRefnet_hsa0.260.020.28
PFPRefnet_mmu0.280.020.29
PFP_score-methods0.020.000.02
PFP_test1000
PFP_test20.020.000.01
calc_PFP_score7.430.007.44
data_std0.020.000.02
gene_list_hsa000
genes_score-methods000
get_PFPRefnet000
get_asso_net1.650.031.68
get_bg_related_kegg101
get_exp_cor_edges0.100.000.11
get_pathway_info0.100.041.14
group-methods0.220.000.22
kegg_download000
net_info-methods0.220.000.22
net_names-methods0.210.000.22
network-methods0.210.000.20
pathway_info000
pathway_info_hsa0.010.000.02
pathways_score-methods000
plot_PFP-methods0.160.000.15
plot_PFPlist0.110.000.11
rank_PFP-methods0.080.030.11
refnet_info-methods000
refnet_names-methods000
result_PFP-methods000
show_PFP-methods000
show_net-methods0.220.040.25
stats_test-methods000
sub_PFP-methods0.080.010.09
subnet-methods0.220.000.22
trans_edges_id1.080.031.11
trans_graph2PFPRefnet0.310.030.34
trans_xml2graph000

PFP.Rcheck/examples_x64/PFP-Ex.timings

nameusersystemelapsed
PFP-class0.080.040.13
PFPRefnet-class0.310.020.33
PFPRefnet_hsa0.140.030.18
PFPRefnet_mmu0.250.000.25
PFP_score-methods000
PFP_test1000
PFP_test20.000.010.01
calc_PFP_score7.150.077.22
data_std0.000.010.02
gene_list_hsa000
genes_score-methods0.020.000.01
get_PFPRefnet000
get_asso_net1.280.021.30
get_bg_related_kegg1.420.001.42
get_exp_cor_edges0.110.000.11
get_pathway_info0.070.011.00
group-methods0.180.000.19
kegg_download000
net_info-methods0.170.000.17
net_names-methods0.190.000.19
network-methods0.170.000.17
pathway_info0.020.000.01
pathway_info_hsa000
pathways_score-methods000
plot_PFP-methods0.170.000.18
plot_PFPlist0.130.000.12
rank_PFP-methods0.090.000.09
refnet_info-methods0.020.000.02
refnet_names-methods000
result_PFP-methods000
show_PFP-methods0.000.020.02
show_net-methods0.170.000.17
stats_test-methods000
sub_PFP-methods0.080.030.11
subnet-methods0.180.000.18
trans_edges_id0.970.020.99
trans_graph2PFPRefnet0.310.000.31
trans_xml2graph000