Back to Multiple platform build/check report for BioC 3.14
ABCDEFGHIJKLMNO[P]QRSTUVWXYZ

This page was generated on 2021-09-16 12:05:52 -0400 (Thu, 16 Sep 2021).

BUILD results for PFP on riesling1

To the developers/maintainers of the PFP package:
- Please allow up to 24 hours (and sometimes 48 hours) for your latest push to git@git.bioconductor.org:packages/PFP.git to
reflect on this report. See How and When does the builder pull? When will my changes propagate? here for more information.
- Make sure to use the following settings in order to reproduce any error or warning you see on this page.

raw results

Package 1364/2029HostnameOS / ArchINSTALLBUILDCHECKBUILD BIN
PFP 1.1.0  (landing page)
XC Zhang
Snapshot Date: 2021-09-15 14:50:10 -0400 (Wed, 15 Sep 2021)
git_url: https://git.bioconductor.org/packages/PFP
git_branch: master
git_last_commit: a3e8d80
git_last_commit_date: 2021-05-19 12:58:46 -0400 (Wed, 19 May 2021)
nebbiolo2Linux (Ubuntu 20.04.2 LTS) / x86_64  ERROR    ERROR  skipped
riesling1Windows Server 2019 Standard / x64  ERROR    ERROR  skippedskipped
merida1macOS 10.14.6 Mojave / x86_64  ERROR    ERROR  skippedskipped

Summary

Package: PFP
Version: 1.1.0
Command: chmod a+r PFP -R && D:\biocbuild\bbs-3.14-bioc\R\bin\R.exe CMD build --keep-empty-dirs --no-resave-data PFP
StartedAt: 2021-09-15 22:09:10 -0400 (Wed, 15 Sep 2021)
EndedAt: 2021-09-15 22:12:18 -0400 (Wed, 15 Sep 2021)
EllapsedTime: 187.2 seconds
RetCode: 1
Status:   ERROR  
PackageFile: PFP_1.1.0.tar.gz
PackageFileSize: 1.165 MiB

Command output

##############################################################################
##############################################################################
###
### Running command:
###
###   chmod a+r PFP -R && D:\biocbuild\bbs-3.14-bioc\R\bin\R.exe CMD build --keep-empty-dirs --no-resave-data PFP
###
##############################################################################
##############################################################################


* checking for file 'PFP/DESCRIPTION' ... OK
* preparing 'PFP':
* checking DESCRIPTION meta-information ... OK
* installing the package to build vignettes
      -----------------------------------
* installing *source* package 'PFP' ...
** using staged installation
** R
** data
** byte-compile and prepare package for lazy loading
Error: object 'get_fun_from_pkg' is not exported by 'namespace:rvcheck'
Execution halted
ERROR: lazy loading failed for package 'PFP'
* removing 'D:/biocbuild/bbs-3.14-bioc/tmpdir/RtmpaCL4rN/Rinst2b0c4a4b541c/PFP'
      -----------------------------------
ERROR: package installation failed