Back to Multiple platform build/check report for BioC 3.14
ABCDEFGHIJKLMNO[P]QRSTUVWXYZ

This page was generated on 2021-09-21 12:06:14 -0400 (Tue, 21 Sep 2021).

BUILD BIN results for PFP on riesling1

To the developers/maintainers of the PFP package:
- Please allow up to 24 hours (and sometimes 48 hours) for your latest push to git@git.bioconductor.org:packages/PFP.git to
reflect on this report. See How and When does the builder pull? When will my changes propagate? here for more information.
- Make sure to use the following settings in order to reproduce any error or warning you see on this page.

raw results

Package 1364/2029HostnameOS / ArchINSTALLBUILDCHECKBUILD BIN
PFP 1.1.0  (landing page)
XC Zhang
Snapshot Date: 2021-09-20 14:50:09 -0400 (Mon, 20 Sep 2021)
git_url: https://git.bioconductor.org/packages/PFP
git_branch: master
git_last_commit: a3e8d80
git_last_commit_date: 2021-05-19 12:58:46 -0400 (Wed, 19 May 2021)
nebbiolo2Linux (Ubuntu 20.04.2 LTS) / x86_64  OK    OK    OK  UNNEEDED, same version is already published
riesling1Windows Server 2019 Standard / x64  OK    OK    OK    OK  UNNEEDED, same version is already published
merida1macOS 10.14.6 Mojave / x86_64  OK    OK    OK    OK  UNNEEDED, same version is already published

Summary

Package: PFP
Version: 1.1.0
Command: rm -rf PFP.buildbin-libdir && mkdir PFP.buildbin-libdir && D:\biocbuild\bbs-3.14-bioc\R\bin\R.exe CMD INSTALL --merge-multiarch --build --library=PFP.buildbin-libdir PFP_1.1.0.tar.gz
StartedAt: 2021-09-21 06:28:52 -0400 (Tue, 21 Sep 2021)
EndedAt: 2021-09-21 06:32:59 -0400 (Tue, 21 Sep 2021)
EllapsedTime: 246.7 seconds
RetCode: 0
Status:   OK  
PackageFile: PFP_1.1.0.zip
PackageFileSize: 1.372 MiB

Command output

##############################################################################
##############################################################################
###
### Running command:
###
###   rm -rf PFP.buildbin-libdir && mkdir PFP.buildbin-libdir && D:\biocbuild\bbs-3.14-bioc\R\bin\R.exe CMD INSTALL --merge-multiarch --build --library=PFP.buildbin-libdir PFP_1.1.0.tar.gz
###
##############################################################################
##############################################################################



install for i386

* installing *source* package 'PFP' ...
** using staged installation
** R
** data
** inst
** byte-compile and prepare package for lazy loading
** help
*** installing help indices
  converting help for package 'PFP'
    finding HTML links ... done
    PFP-class                               html  
    PFP                                     html  
    PFPRefnet-class                         html  
    PFPRefnet_hsa                           html  
    PFPRefnet_mmu                           html  
    PFP_score-methods                       html  
    PFP_test1                               html  
    PFP_test2                               html  
    calc_PFP_score                          html  
    data_std                                html  
    gene_list_hsa                           html  
    genes_score-methods                     html  
    get_PFPRefnet                           html  
    get_asso_net                            html  
    get_bg_related_kegg                     html  
    get_exp_cor_edges                       html  
    get_pathway_info                        html  
    group-methods                           html  
    kegg_download                           html  
    net_info-methods                        html  
    net_names-methods                       html  
    network-methods                         html  
    pathway_info                            html  
    pathway_info_hsa                        html  
    pathways_score-methods                  html  
    plot_PFP-methods                        html  
    plot_PFPlist                            html  
    rank_PFP-methods                        html  
    refnet_info-methods                     html  
    refnet_names-methods                    html  
    result_PFP-methods                      html  
    show_PFP-methods                        html  
    show_net-methods                        html  
    stats_test-methods                      html  
    sub_PFP-methods                         html  
    subnet-methods                          html  
    trans_edges_id                          html  
    trans_graph2PFPRefnet                   html  
    finding level-2 HTML links ... done

    trans_xml2graph                         html  
** building package indices
** installing vignettes
** testing if installed package can be loaded from temporary location
** testing if installed package can be loaded from final location
** testing if installed package keeps a record of temporary installation path

install for x64

* installing *source* package 'PFP' ...
** testing if installed package can be loaded
* MD5 sums
packaged installation of 'PFP' as PFP_1.1.0.zip
* DONE (PFP)