Back to Multiple platform build/check report for BioC 3.14
ABCDEFGHIJKLMNO[P]QRSTUVWXYZ

This page was generated on 2021-08-03 12:06:55 -0400 (Tue, 03 Aug 2021).

BUILD results for PFP on merida1

To the developers/maintainers of the PFP package:
- Please allow up to 24 hours (and sometimes 48 hours) for your latest push to git@git.bioconductor.org:packages/PFP.git to
reflect on this report. See How and When does the builder pull? When will my changes propagate? here for more information.
- Make sure to use the following settings in order to reproduce any error or warning you see on this page.

raw results

Package 1357/2015HostnameOS / ArchINSTALLBUILDCHECKBUILD BIN
PFP 1.1.0  (landing page)
XC Zhang
Snapshot Date: 2021-08-02 14:50:09 -0400 (Mon, 02 Aug 2021)
URL: https://git.bioconductor.org/packages/PFP
Branch: master
Last Commit: a3e8d80
Last Changed Date: 2021-05-19 12:58:46 -0400 (Wed, 19 May 2021)
nebbiolo2Linux (Ubuntu 20.04.2 LTS) / x86_64  OK    OK    OK  UNNEEDED, same version is already published
riesling1Windows Server 2019 Standard / x64  OK    OK    OK    OK  NO, package depends on 'KEGGgraph' which is not available
merida1macOS 10.14.6 Mojave / x86_64  OK    OK    OK    OK  UNNEEDED, same version is already published

Summary

Package: PFP
Version: 1.1.0
Command: /Library/Frameworks/R.framework/Resources/bin/R CMD build --keep-empty-dirs --no-resave-data PFP
StartedAt: 2021-08-02 21:19:00 -0400 (Mon, 02 Aug 2021)
EndedAt: 2021-08-02 21:21:04 -0400 (Mon, 02 Aug 2021)
EllapsedTime: 123.7 seconds
RetCode: 0
Status:   OK  
PackageFile: PFP_1.1.0.tar.gz
PackageFileSize: 1.224 MiB

Command output

##############################################################################
##############################################################################
###
### Running command:
###
###   /Library/Frameworks/R.framework/Resources/bin/R CMD build --keep-empty-dirs --no-resave-data PFP
###
##############################################################################
##############################################################################


* checking for file ‘PFP/DESCRIPTION’ ... OK
* preparing ‘PFP’:
* checking DESCRIPTION meta-information ... OK
* installing the package to build vignettes
* creating vignettes ... OK
* checking for LF line-endings in source and make files and shell scripts
* checking for empty or unneeded directories
* looking to see if a ‘data/datalist’ file should be added
* building ‘PFP_1.1.0.tar.gz’