Back to Multiple platform build/check report for BioC 3.14
ABCDEFGHIJKLMNO[P]QRSTUVWXYZ

This page was generated on 2021-08-03 12:06:55 -0400 (Tue, 03 Aug 2021).

BUILD BIN results for PFP on merida1

To the developers/maintainers of the PFP package:
- Please allow up to 24 hours (and sometimes 48 hours) for your latest push to git@git.bioconductor.org:packages/PFP.git to
reflect on this report. See How and When does the builder pull? When will my changes propagate? here for more information.
- Make sure to use the following settings in order to reproduce any error or warning you see on this page.

raw results

Package 1357/2015HostnameOS / ArchINSTALLBUILDCHECKBUILD BIN
PFP 1.1.0  (landing page)
XC Zhang
Snapshot Date: 2021-08-02 14:50:09 -0400 (Mon, 02 Aug 2021)
URL: https://git.bioconductor.org/packages/PFP
Branch: master
Last Commit: a3e8d80
Last Changed Date: 2021-05-19 12:58:46 -0400 (Wed, 19 May 2021)
nebbiolo2Linux (Ubuntu 20.04.2 LTS) / x86_64  OK    OK    OK  UNNEEDED, same version is already published
riesling1Windows Server 2019 Standard / x64  OK    OK    OK    OK  NO, package depends on 'KEGGgraph' which is not available
merida1macOS 10.14.6 Mojave / x86_64  OK    OK    OK    OK  UNNEEDED, same version is already published

Summary

Package: PFP
Version: 1.1.0
Command: rm -rf PFP.buildbin-libdir && mkdir PFP.buildbin-libdir && /Users/biocbuild/BBS/utils/build-universal.sh PFP_1.1.0.tar.gz /Library/Frameworks/R.framework/Resources/bin/R PFP.buildbin-libdir
StartedAt: 2021-08-03 10:13:54 -0400 (Tue, 03 Aug 2021)
EndedAt: 2021-08-03 10:14:45 -0400 (Tue, 03 Aug 2021)
EllapsedTime: 51.3 seconds
RetCode: 0
Status:   OK  
PackageFile: PFP_1.1.0.tgz
PackageFileSize: 1.348 MiB

Command output

##############################################################################
##############################################################################
###
### Running command:
###
###   rm -rf PFP.buildbin-libdir && mkdir PFP.buildbin-libdir && /Users/biocbuild/BBS/utils/build-universal.sh PFP_1.1.0.tar.gz /Library/Frameworks/R.framework/Resources/bin/R PFP.buildbin-libdir
###
##############################################################################
##############################################################################


>>>>>>> 
>>>>>>> INSTALLATION WITH 'R CMD INSTALL --preclean --no-multiarch --library=PFP.buildbin-libdir PFP_1.1.0.tar.gz'
>>>>>>> 

* installing *source* package ‘PFP’ ...
** using staged installation
** R
** data
** inst
** byte-compile and prepare package for lazy loading
** help
*** installing help indices
** building package indices
** installing vignettes
** testing if installed package can be loaded from temporary location
** testing if installed package can be loaded from final location
** testing if installed package keeps a record of temporary installation path
* DONE (PFP)