Index of /checkResults/devel/bioc-LATEST/PAIRADISE/raw-results/nebbiolo2

[ICO]NameLast modifiedSizeDescription

[DIR]Parent Directory  -  
[TXT]buildsrc-out.txt22-Jun-2024 00:35 901  
[   ]buildsrc-summary.dcf22-Jun-2024 00:35 429  
[TXT]checksrc-out.txt22-Jun-2024 00:35 3.2K 
[   ]checksrc-summary.dcf22-Jun-2024 00:35 422  
[TXT]install-out.txt22-Jun-2024 00:35 958  
[   ]install-summary.dcf22-Jun-2024 00:35 263