Index of /checkResults/devel/bioc-LATEST/PAIRADISE/raw-results/kunpeng2

[ICO]NameLast modifiedSizeDescription

[DIR]Parent Directory  -  
[TXT]buildsrc-out.txt16-May-2024 02:46 888  
[   ]buildsrc-summary.dcf16-May-2024 02:46 434  
[TXT]checksrc-out.txt16-May-2024 02:46 3.3K 
[   ]checksrc-summary.dcf16-May-2024 02:46 459  
[TXT]install-out.txt16-May-2024 02:46 1.0K 
[   ]install-summary.dcf16-May-2024 02:46 274