Index of /checkResults/devel/bioc-LATEST/PAIRADISE/raw-results/kjohnson1

[ICO]NameLast modifiedSizeDescription

[DIR]Parent Directory  -  
[TXT]buildbin-out.txt12-Jun-2024 04:43 1.2K 
[   ]buildbin-summary.dcf12-Jun-2024 04:43 542  
[TXT]buildsrc-out.txt12-Jun-2024 04:43 887  
[   ]buildsrc-summary.dcf12-Jun-2024 04:43 433  
[TXT]checksrc-out.txt12-Jun-2024 04:43 3.3K 
[   ]checksrc-summary.dcf12-Jun-2024 04:43 452  
[TXT]install-out.txt12-Jun-2024 04:43 1.0K 
[   ]install-summary.dcf12-Jun-2024 04:43 273